BEGIN:VCALENDAR
VERSION:2.0
PRODID:-//zell.ortenaukultur.de//NONSGML kigkonsult.se iCalcreator 2.41.92//
CALSCALE:GREGORIAN
METHOD:PUBLISH
UID:36666537-6431-4739-b363-636536623031
X-WR-TIMEZONE:Europe/Berlin
X-LIC-LOCATION:Europe/Berlin
BEGIN:VEVENT
UID:590298-kulturportal@zell.ortenaukultur.de
DTSTAMP:20260425T165128Z
DESCRIPTION:Kurzbeschreibung:\n Feiert 300 Jahre Abfindungsbrennerei mit un
 s! Mit kreativen Cocktails und feinem Fingerfood aus regionalen Produkten.
  Anmeldung unter 07838 663.\n Ort:\n Heidenbühlhof\n Heidenbühl 2\, 77787 
 Nordrach\n Veranstalter:\n Heidenbühlhof\n Termin:\n Beginn: 22.08.2026\, 
 18:00 Uhr\n Ende: 22.08.2026\n Link:\n Zur Detailseite
DTSTART;TZID=Europe/Berlin:20260822T180000
DTEND;TZID=Europe/Berlin:20260822T210000
LOCATION:Heidenbühlhof\, Heidenbühl 2\, 77787 Nordrach
SUMMARY:Handwerk trifft Cocktailkultur auf dem Heidenbühlhof\, Heidenbühlho
 f
X-ALT-DESC;FMTTYPE=text/html:<strong>Kurzbeschreibung:</strong><br/>Feiert 
 300 Jahre Abfindungsbrennerei mit uns! Mit kreativen Cocktails und feinem 
 Fingerfood aus regionalen Produkten. Anmeldung unter 07838 663. <br /><str
 ong>Ort:</strong><br/>Heidenbühlhof<br/>Heidenbühl 2\, 77787 Nordrach<br /
 ><strong>Veranstalter:</strong><br/>Heidenbühlhof<br /><strong>Termin:</st
 rong><br/>Beginn: 22.08.2026\, 18:00 Uhr<br/>Ende: 22.08.2026<br /><strong
 >Link:</strong><br/><a href='https://zell.ortenaukultur.de/de/veranstaltun
 gen/detail/veranstaltung/id/590298-handwerk-trifft-cocktailkultur-auf-dem-
 heidenbuehlhof/?vt=1'>Zur Detailseite</a>
END:VEVENT
END:VCALENDAR
