BEGIN:VCALENDAR
VERSION:2.0
PRODID:-//zell.ortenaukultur.de//NONSGML kigkonsult.se iCalcreator 2.41.92//
CALSCALE:GREGORIAN
METHOD:PUBLISH
UID:30396538-3938-4331-b631-363561666565
X-WR-TIMEZONE:Europe/Berlin
X-LIC-LOCATION:Europe/Berlin
BEGIN:VEVENT
UID:590878-kulturportal@zell.ortenaukultur.de
DTSTAMP:20260425T134640Z
DESCRIPTION:Kurzbeschreibung:\n Führung durch die Zeller Kunstwege mit Umtr
 unk\n Ort:\n Rundofen\n Fabrikstraße 5a\, 77736 Zell am Harmersbach\n Vera
 nstalter:\n Kultur und Stadtmarketing\n Termin:\n Beginn: 23.07.2026\, 14:
 30 Uhr\n Ende: 23.07.2026\n Link:\n Zur Detailseite
DTSTART;TZID=Europe/Berlin:20260723T143000
DTEND;TZID=Europe/Berlin:20260723T173000
LOCATION:Rundofen\, Fabrikstraße 5a\, 77736 Zell am Harmersbach
SUMMARY:Fein prickelnd. Tief beeindruckend. Kunstweg Zell.\, Rundofen
X-ALT-DESC;FMTTYPE=text/html:<strong>Kurzbeschreibung:</strong><br/>Führung
  durch die Zeller Kunstwege mit Umtrunk<br /><strong>Ort:</strong><br/>Run
 dofen<br/>Fabrikstraße 5a\, 77736 Zell am Harmersbach<br /><strong>Veranst
 alter:</strong><br/>Kultur und Stadtmarketing<br /><strong>Termin:</strong
 ><br/>Beginn: 23.07.2026\, 14:30 Uhr<br/>Ende: 23.07.2026<br /><strong>Lin
 k:</strong><br/><a href='https://zell.ortenaukultur.de/de/veranstaltungen/
 detail/veranstaltung/id/590878-fein-prickelnd-tief-beeindruckend-kunstweg-
 zell/?vt=1'>Zur Detailseite</a>
END:VEVENT
END:VCALENDAR
