BEGIN:VCALENDAR
VERSION:2.0
PRODID:-//zell.ortenaukultur.de//NONSGML kigkonsult.se iCalcreator 2.41.92//
CALSCALE:GREGORIAN
METHOD:PUBLISH
UID:35356134-3966-4564-a333-623834653363
X-WR-TIMEZONE:Europe/Berlin
X-LIC-LOCATION:Europe/Berlin
BEGIN:VEVENT
UID:591257-kulturportal@zell.ortenaukultur.de
DTSTAMP:20260425T152148Z
DESCRIPTION:Kurzbeschreibung:\n Zeller Sommermusik - Thomas Scheytt Piano S
 olo\, Klassiker des Blues & Boogie Woogie und eigene Kompositionen\n Ort:
 \n Evangelische Kirche\n Kirchstr. 14\, 77736 Zell am Harmersbach\n Verans
 talter:\n Kultur und Stadtmarketing\n Termin:\n Beginn: 26.08.2026\, 19:00
  Uhr\n Ende: 26.08.2026\n Link:\n Zur Detailseite
DTSTART;TZID=Europe/Berlin:20260826T190000
DTEND;TZID=Europe/Berlin:20260826T220000
LOCATION:Evangelische Kirche\, Kirchstr. 14\, 77736 Zell am Harmersbach
SUMMARY:Thomas Scheytt Piano Solo\, Evangelische Kirche
X-ALT-DESC;FMTTYPE=text/html:<strong>Kurzbeschreibung:</strong><br/>Zeller 
 Sommermusik - Thomas Scheytt Piano Solo\,  Klassiker des Blues & Boogie Wo
 ogie und eigene Kompositionen<br /><strong>Ort:</strong><br/>Evangelische 
 Kirche<br/>Kirchstr. 14\, 77736 Zell am Harmersbach<br /><strong>Veranstal
 ter:</strong><br/>Kultur und Stadtmarketing<br /><strong>Termin:</strong><
 br/>Beginn: 26.08.2026\, 19:00 Uhr<br/>Ende: 26.08.2026<br /><strong>Link:
 </strong><br/><a href='https://zell.ortenaukultur.de/de/veranstaltungen/de
 tail/veranstaltung/id/591257-thomas-scheytt-piano-solo/?vt=1'>Zur Detailse
 ite</a>
END:VEVENT
END:VCALENDAR
