BEGIN:VCALENDAR
VERSION:2.0
PRODID:-//zell.ortenaukultur.de//NONSGML kigkonsult.se iCalcreator 2.41.92//
CALSCALE:GREGORIAN
METHOD:PUBLISH
UID:62643634-3538-4636-b738-316338353239
X-WR-TIMEZONE:Europe/Berlin
X-LIC-LOCATION:Europe/Berlin
BEGIN:VEVENT
UID:591625-kulturportal@zell.ortenaukultur.de
DTSTAMP:20260425T135315Z
DESCRIPTION:Kurzbeschreibung:\n Sommerfest mit der Tanzgruppe des Kreativ-T
 heaters 'Chamäleon'\n Ort:\n Pfarrheim St. Symphorian\n Pfarrhofgraben 14\
 , 77736 Zell am Harmersbach\n Veranstalter:\n FORUM älterwerden\n Termin:
 \n Beginn: 08.07.2026\, 14:00 Uhr\n Ende: 08.07.2026\n Link:\n Zur Details
 eite
DTSTART;TZID=Europe/Berlin:20260708T140000
DTEND;TZID=Europe/Berlin:20260708T170000
LOCATION:Pfarrheim St. Symphorian\, Pfarrhofgraben 14\, 77736 Zell am Harme
 rsbach
SUMMARY:Sommerfest FORUM älterwerden\, Pfarrheim St. Symphorian
X-ALT-DESC;FMTTYPE=text/html:<strong>Kurzbeschreibung:</strong><br/>Sommerf
 est mit der Tanzgruppe des Kreativ-Theaters 'Chamäleon'  <br /><strong>Ort
 :</strong><br/>Pfarrheim St. Symphorian<br/>Pfarrhofgraben 14\, 77736 Zell
  am Harmersbach<br /><strong>Veranstalter:</strong><br/>FORUM älterwerden<
 br /><strong>Termin:</strong><br/>Beginn: 08.07.2026\, 14:00 Uhr<br/>Ende:
  08.07.2026<br /><strong>Link:</strong><br/><a href='https://zell.ortenauk
 ultur.de/de/veranstaltungen/detail/veranstaltung/id/591625-sommerfest-foru
 m-aelterwerden/?vt=1'>Zur Detailseite</a>
END:VEVENT
END:VCALENDAR
