BEGIN:VCALENDAR
VERSION:2.0
PRODID:-//zell.ortenaukultur.de//NONSGML kigkonsult.se iCalcreator 2.41.92//
CALSCALE:GREGORIAN
METHOD:PUBLISH
UID:34623431-6230-4339-a163-363733383263
X-WR-TIMEZONE:Europe/Berlin
X-LIC-LOCATION:Europe/Berlin
BEGIN:VEVENT
UID:591734-kulturportal@zell.ortenaukultur.de
DTSTAMP:20260424T231908Z
DESCRIPTION:Kurzbeschreibung:\n Ein historischer Rundgang Stadtbott Josef V
 etter entführt Sie auf einen humorvollen Streifzug durch Zells Wirtshausge
 schichte.\n Ort:\n Storchenturm Museum\n Kanzleiplatz\, 77736 Zell am Harm
 ersbach\n Veranstalter:\n Kultur und Stadtmarketing\n Termin:\n Beginn: 10
 .09.2026\, 19:00 Uhr\n Ende: 10.09.2026\n Link:\n Zur Detailseite
DTSTART;TZID=Europe/Berlin:20260910T190000
DTEND;TZID=Europe/Berlin:20260910T220000
LOCATION:Storchenturm Museum\, Kanzleiplatz\, 77736 Zell am Harmersbach
SUMMARY:Wo man früher zechte \, Storchenturm Museum
X-ALT-DESC;FMTTYPE=text/html:<strong>Kurzbeschreibung:</strong><br/>Ein his
 torischer Rundgang Stadtbott Josef Vetter entführt Sie auf einen humorvoll
 en Streifzug durch Zells Wirtshausgeschichte.<br /><strong>Ort:</strong><b
 r/>Storchenturm Museum<br/>Kanzleiplatz\, 77736 Zell am Harmersbach<br /><
 strong>Veranstalter:</strong><br/>Kultur und Stadtmarketing<br /><strong>T
 ermin:</strong><br/>Beginn: 10.09.2026\, 19:00 Uhr<br/>Ende: 10.09.2026<br
  /><strong>Link:</strong><br/><a href='https://zell.ortenaukultur.de/de/ve
 ranstaltungen/detail/veranstaltung/id/591734-wo-man-frueher-zechte/?vt=1'>
 Zur Detailseite</a>
END:VEVENT
END:VCALENDAR
