BEGIN:VCALENDAR
VERSION:2.0
PRODID:-//zell.ortenaukultur.de//NONSGML kigkonsult.se iCalcreator 2.41.92//
CALSCALE:GREGORIAN
METHOD:PUBLISH
UID:36336633-3338-4861-b331-633438636230
X-WR-TIMEZONE:Europe/Berlin
X-LIC-LOCATION:Europe/Berlin
BEGIN:VEVENT
UID:594226-kulturportal@zell.ortenaukultur.de
DTSTAMP:20260425T122422Z
DESCRIPTION:Kurzbeschreibung:\n Jahreshauptversammlung Bürgergarde Gengenba
 ch\n Ort:\n Vereinsheim am Nollen\, Gengenbach\n Veranstalter:\n Bürgergar
 de Gengenbach\n Termin:\n Beginn: 28.11.2026\, 20:00 Uhr\n Ende: 28.11.202
 6\n Link:\n Zur Detailseite
DTSTART;TZID=Europe/Berlin:20261128T200000
DTEND;TZID=Europe/Berlin:20261128T230000
LOCATION:Vereinsheim am Nollen\, Gengenbach
SUMMARY:Jahreshauptversammlung Bürgergarde Gengenbach\, Vereinsheim am Noll
 en
X-ALT-DESC;FMTTYPE=text/html:<strong>Kurzbeschreibung:</strong><br/>Jahresh
 auptversammlung Bürgergarde Gengenbach<br /><strong>Ort:</strong><br/>Vere
 insheim am Nollen\, Gengenbach<br /><strong>Veranstalter:</strong><br/>Bür
 gergarde Gengenbach<br /><strong>Termin:</strong><br/>Beginn: 28.11.2026\,
  20:00 Uhr<br/>Ende: 28.11.2026<br /><strong>Link:</strong><br/><a href='h
 ttps://zell.ortenaukultur.de/de/veranstaltungen/detail/veranstaltung/id/59
 4226-jahreshauptversammlung-buergergarde-gengenbach/?vt=1'>Zur Detailseite
 </a>
END:VEVENT
END:VCALENDAR
