BEGIN:VCALENDAR
VERSION:2.0
PRODID:-//zell.ortenaukultur.de//NONSGML kigkonsult.se iCalcreator 2.41.92//
CALSCALE:GREGORIAN
METHOD:PUBLISH
UID:36663331-3231-4064-b263-383533653134
X-WR-TIMEZONE:Europe/Berlin
X-LIC-LOCATION:Europe/Berlin
BEGIN:VEVENT
UID:123937-kulturportal@zell.ortenaukultur.de
DTSTAMP:20260425T025925Z
DESCRIPTION:Kurzbeschreibung:\n Eröffnung des Sommerfestes durch den Spielm
 annszug\n Ort:\n Kanzleiplatz\n Kanzleiplatz 1\, 77736 Zell am Harmersbach
 \n Veranstalter:\n Freiwillige Bürgerwehr der Stadt Zell a. H. e. V.\n Ter
 min:\n Beginn: 18.07.2026\n Ende: 18.07.2026\n Link:\n Zur Detailseite
DTSTART;TZID=Europe/Berlin:20260718T000000
DTEND;TZID=Europe/Berlin:20260718T030000
LOCATION:Kanzleiplatz\, Kanzleiplatz 1\, 77736 Zell am Harmersbach
SUMMARY:50. Biwak - Sommerfest am Storchenturm\, Kanzleiplatz
X-ALT-DESC;FMTTYPE=text/html:<strong>Kurzbeschreibung:</strong><br/>Eröffnu
 ng des Sommerfestes durch den Spielmannszug<br /><strong>Ort:</strong><br/
 >Kanzleiplatz<br/>Kanzleiplatz 1\, 77736 Zell am Harmersbach<br /><strong>
 Veranstalter:</strong><br/>Freiwillige Bürgerwehr der Stadt Zell a. H. e. 
 V.<br /><strong>Termin:</strong><br/>Beginn: 18.07.2026<br/>Ende: 18.07.20
 26<br /><strong>Link:</strong><br/><a href='https://zell.ortenaukultur.de/
 de/veranstaltungen/detail/veranstaltung/id/123937-50-biwak-sommerfest-am-s
 torchenturm/?vt=1'>Zur Detailseite</a>
END:VEVENT
END:VCALENDAR
