BEGIN:VCALENDAR
VERSION:2.0
PRODID:-//zell.ortenaukultur.de//NONSGML kigkonsult.se iCalcreator 2.41.92//
CALSCALE:GREGORIAN
METHOD:PUBLISH
UID:65373632-3564-4338-b836-333432383939
X-WR-TIMEZONE:Europe/Berlin
X-LIC-LOCATION:Europe/Berlin
BEGIN:VEVENT
UID:123949-kulturportal@zell.ortenaukultur.de
DTSTAMP:20260425T040447Z
DESCRIPTION:Kurzbeschreibung:\n Stadtkapelle spielt im Schwimmbad auf\n Bli
 tzinfo:\n Abgesagt!\n Ort:\n Familienbad Zell am Harmersbach\, Zell am Har
 mersbach\n Veranstalter:\n Kultur und Stadtmarketing\n Termin:\n Beginn: 2
 5.06.2026\, 19:00 Uhr\n Ende: 25.06.2026\n Link:\n Zur Detailseite
DTSTART;TZID=Europe/Berlin:20260625T190000
DTEND;TZID=Europe/Berlin:20260625T220000
LOCATION:Familienbad Zell am Harmersbach\, Zell am Harmersbach
SUMMARY:Schwimmbadkonzert \, Familienbad Zell am Harmersbach
X-ALT-DESC;FMTTYPE=text/html:<strong>Kurzbeschreibung:</strong><br/>Stadtka
 pelle spielt im Schwimmbad auf<br /><strong>Blitzinfo:</strong><br/>Abgesa
 gt!<br /><strong>Ort:</strong><br/>Familienbad Zell am Harmersbach\, Zell 
 am Harmersbach<br /><strong>Veranstalter:</strong><br/>Kultur und Stadtmar
 keting<br /><strong>Termin:</strong><br/>Beginn: 25.06.2026\, 19:00 Uhr<br
 />Ende: 25.06.2026<br /><strong>Link:</strong><br/><a href='https://zell.o
 rtenaukultur.de/de/veranstaltungen/detail/veranstaltung/id/123949-schwimmb
 adkonzert/?vt=1'>Zur Detailseite</a>
END:VEVENT
END:VCALENDAR
