BEGIN:VCALENDAR
VERSION:2.0
PRODID:-//zell.ortenaukultur.de//NONSGML kigkonsult.se iCalcreator 2.41.92//
CALSCALE:GREGORIAN
METHOD:PUBLISH
UID:30313563-3632-4336-b663-353631656663
X-WR-TIMEZONE:Europe/Berlin
X-LIC-LOCATION:Europe/Berlin
BEGIN:VEVENT
UID:123968-kulturportal@zell.ortenaukultur.de
DTSTAMP:20260425T030248Z
DESCRIPTION:Kurzbeschreibung:\n Zeller Fest / Patrozinium Pfarrkirche St. S
 ymphorian\n Ort:\n Katholische Stadtkirche St. Symphorian\n Kirchstr.\, 77
 736 Zell am Harmersbach\n Veranstalter:\n Katholisches Pfarramt\n Termin:
 \n Beginn: 23.08.2026\, 09:00 Uhr\n Ende: 23.08.2026\n Link:\n Zur Details
 eite
DTSTART;TZID=Europe/Berlin:20260823T090000
DTEND;TZID=Europe/Berlin:20260823T120000
LOCATION:Katholische Stadtkirche St. Symphorian\, Kirchstr.\, 77736 Zell am
  Harmersbach
SUMMARY:Zeller Fest mit Patrozinium\, Katholische Stadtkirche St. Symphoria
 n
X-ALT-DESC;FMTTYPE=text/html:<strong>Kurzbeschreibung:</strong><br/>Zeller 
 Fest / Patrozinium Pfarrkirche St. Symphorian<br /><strong>Ort:</strong><b
 r/>Katholische Stadtkirche St. Symphorian<br/>Kirchstr.\, 77736 Zell am Ha
 rmersbach<br /><strong>Veranstalter:</strong><br/>Katholisches Pfarramt<br
  /><strong>Termin:</strong><br/>Beginn: 23.08.2026\, 09:00 Uhr<br/>Ende: 2
 3.08.2026<br /><strong>Link:</strong><br/><a href='https://zell.ortenaukul
 tur.de/de/veranstaltungen/detail/veranstaltung/id/123968-zeller-fest-mit-p
 atrozinium/?vt=1'>Zur Detailseite</a>
END:VEVENT
END:VCALENDAR
