BEGIN:VCALENDAR
VERSION:2.0
PRODID:-//zell.ortenaukultur.de//NONSGML kigkonsult.se iCalcreator 2.41.92//
CALSCALE:GREGORIAN
METHOD:PUBLISH
UID:33643036-3564-4739-a134-333235343864
X-WR-TIMEZONE:Europe/Berlin
X-LIC-LOCATION:Europe/Berlin
BEGIN:VEVENT
UID:125984-kulturportal@zell.ortenaukultur.de
DTSTAMP:20260424T215919Z
DESCRIPTION:Kurzbeschreibung:\n entlang eines Teilabschnittes der Talstraße
  ins Dorf\n Ort:\n Teilstück entlang der Talstraße\, Oberharmersbach\n Ver
 anstalter:\n Spielmannszug Oberharmersbach\n Termin:\n Beginn: 01.05.2026
 \n Ende: 01.05.2026\n Link:\n Zur Detailseite
DTSTART;TZID=Europe/Berlin:20260501T000000
DTEND;TZID=Europe/Berlin:20260501T030000
LOCATION:Teilstück entlang der Talstraße\, Oberharmersbach
SUMMARY:Wecken durch den Spielmannszug\, Teilstück entlang der Talstraße
X-ALT-DESC;FMTTYPE=text/html:<strong>Kurzbeschreibung:</strong><br/>entlang
  eines Teilabschnittes der Talstraße ins Dorf<br /><strong>Ort:</strong><b
 r/>Teilstück entlang der Talstraße\, Oberharmersbach<br /><strong>Veransta
 lter:</strong><br/>Spielmannszug Oberharmersbach<br /><strong>Termin:</str
 ong><br/>Beginn: 01.05.2026<br/>Ende: 01.05.2026<br /><strong>Link:</stron
 g><br/><a href='https://zell.ortenaukultur.de/de/veranstaltungen/detail/ve
 ranstaltung/id/125984-wecken-durch-den-spielmannszug/?vt=1'>Zur Detailseit
 e</a>
END:VEVENT
END:VCALENDAR
