BEGIN:VCALENDAR
VERSION:2.0
PRODID:-//zell.ortenaukultur.de//NONSGML kigkonsult.se iCalcreator 2.41.92//
CALSCALE:GREGORIAN
METHOD:PUBLISH
UID:64623632-3962-4436-a463-666134633634
X-WR-TIMEZONE:Europe/Berlin
X-LIC-LOCATION:Europe/Berlin
BEGIN:VEVENT
UID:269979-kulturportal@zell.ortenaukultur.de
DTSTAMP:20260425T120019Z
DESCRIPTION:Kurzbeschreibung:\n Schlendern Sie mit einem Stadtführer durch 
 die romantischen Altstadtgassen.\n Ort:\n Kanzleiplatz\n Kanzleiplatz 1\, 
 77736 Zell am Harmersbach\n Veranstalter:\n Tourist-Information\n Termin:
 \n Beginn: 04.08.2026\, 19:30 Uhr\n Ende: 04.08.2026\n Link:\n Zur Details
 eite
DTSTART;TZID=Europe/Berlin:20260804T193000
DTEND;TZID=Europe/Berlin:20260804T223000
LOCATION:Kanzleiplatz\, Kanzleiplatz 1\, 77736 Zell am Harmersbach
SUMMARY:Stadtführung\, Kanzleiplatz
X-ALT-DESC;FMTTYPE=text/html:<strong>Kurzbeschreibung:</strong><br/>Schlend
 ern Sie mit einem Stadtführer durch die romantischen Altstadtgassen.<br />
 <strong>Ort:</strong><br/>Kanzleiplatz<br/>Kanzleiplatz 1\, 77736 Zell am 
 Harmersbach<br /><strong>Veranstalter:</strong><br/>Tourist-Information<br
  /><strong>Termin:</strong><br/>Beginn: 04.08.2026\, 19:30 Uhr<br/>Ende: 0
 4.08.2026<br /><strong>Link:</strong><br/><a href='https://zell.ortenaukul
 tur.de/de/veranstaltungen/detail/veranstaltung/id/269979-stadtfuehrung/?vt
 =1'>Zur Detailseite</a>
END:VEVENT
END:VCALENDAR
