BEGIN:VCALENDAR
VERSION:2.0
PRODID:-//zell.ortenaukultur.de//NONSGML kigkonsult.se iCalcreator 2.41.92//
CALSCALE:GREGORIAN
METHOD:PUBLISH
UID:66636631-3162-4132-a330-663463346630
X-WR-TIMEZONE:Europe/Berlin
X-LIC-LOCATION:Europe/Berlin
BEGIN:VEVENT
UID:299600-kulturportal@zell.ortenaukultur.de
DTSTAMP:20260425T030426Z
DESCRIPTION:Kurzbeschreibung:\n Hock auf dem Kanzleiplatz mit den Schwarzwa
 ldmusikanten\n Ort:\n Kanzleiplatz\n Kanzleiplatz 1\, 77736 Zell am Harmer
 sbach\n Veranstalter:\n Kultur und Stadtmarketing\n Termin:\n Beginn: 09.0
 7.2026\, 19:30 Uhr\n Ende: 09.07.2026\n Link:\n Zur Detailseite
DTSTART;TZID=Europe/Berlin:20260709T193000
DTEND;TZID=Europe/Berlin:20260709T223000
LOCATION:Kanzleiplatz\, Kanzleiplatz 1\, 77736 Zell am Harmersbach
SUMMARY:Hock auf dem Kanzleiplatz mit den Schwarzwaldmusikanten\, Kanzleipl
 atz
X-ALT-DESC;FMTTYPE=text/html:<strong>Kurzbeschreibung:</strong><br/>Hock au
 f dem Kanzleiplatz mit den Schwarzwaldmusikanten<br /><strong>Ort:</strong
 ><br/>Kanzleiplatz<br/>Kanzleiplatz 1\, 77736 Zell am Harmersbach<br /><st
 rong>Veranstalter:</strong><br/>Kultur und Stadtmarketing<br /><strong>Ter
 min:</strong><br/>Beginn: 09.07.2026\, 19:30 Uhr<br/>Ende: 09.07.2026<br /
 ><strong>Link:</strong><br/><a href='https://zell.ortenaukultur.de/de/vera
 nstaltungen/detail/veranstaltung/id/299600-hock-auf-dem-kanzleiplatz-mit-d
 en-schwarzwaldmusikanten/?vt=1'>Zur Detailseite</a>
END:VEVENT
END:VCALENDAR
