BEGIN:VCALENDAR
VERSION:2.0
PRODID:-//zell.ortenaukultur.de//NONSGML kigkonsult.se iCalcreator 2.41.92//
CALSCALE:GREGORIAN
METHOD:PUBLISH
UID:66353532-3633-4431-b065-613237346462
X-WR-TIMEZONE:Europe/Berlin
X-LIC-LOCATION:Europe/Berlin
BEGIN:VEVENT
UID:383634-kulturportal@zell.ortenaukultur.de
DTSTAMP:20260425T121825Z
DESCRIPTION:Kurzbeschreibung:\n Vier Tage Feststimmung für alle Generatione
 n\n Ort:\n Kilwiplatz Unterentersbach\n Zeller Str. 12\, 77736 Zell am Har
 mersbach\n Veranstalter:\n Musikverein Unterentersbach e. V.\n Termin:\n B
 eginn: 09.08.2026\n Ende: 09.08.2026\n Link:\n Zur Detailseite
DTSTART;TZID=Europe/Berlin:20260809T000000
DTEND;TZID=Europe/Berlin:20260809T030000
LOCATION:Kilwiplatz Unterentersbach\, Zeller Str. 12\, 77736 Zell am Harmer
 sbach
SUMMARY:Entersbacher Kilwi\, Dorfgemeinschaftshaus Unterentersbach
X-ALT-DESC;FMTTYPE=text/html:<strong>Kurzbeschreibung:</strong><br/>Vier Ta
 ge Feststimmung für alle Generationen<br /><strong>Ort:</strong><br/>Kilwi
 platz Unterentersbach<br/>Zeller Str. 12\, 77736 Zell am Harmersbach<br />
 <strong>Veranstalter:</strong><br/>Musikverein Unterentersbach e. V.<br />
 <strong>Termin:</strong><br/>Beginn: 09.08.2026<br/>Ende: 09.08.2026<br />
 <strong>Link:</strong><br/><a href='https://zell.ortenaukultur.de/de/veran
 staltungen/detail/veranstaltung/id/383634-entersbacher-kilwi/?vt=1'>Zur De
 tailseite</a>
END:VEVENT
END:VCALENDAR
