BEGIN:VCALENDAR
VERSION:2.0
PRODID:-//zell.ortenaukultur.de//NONSGML kigkonsult.se iCalcreator 2.41.92//
CALSCALE:GREGORIAN
METHOD:PUBLISH
UID:31386131-3162-4365-b134-333630353365
X-WR-TIMEZONE:Europe/Berlin
X-LIC-LOCATION:Europe/Berlin
BEGIN:VEVENT
UID:453136-kulturportal@zell.ortenaukultur.de
DTSTAMP:20260424T234037Z
DESCRIPTION:Kurzbeschreibung:\n Hock beim Fürstenberger Hof mit dem Musikve
 rein Unterharmersbach\n Ort:\n Heimatmuseum Fürstenberger Hof\n Steinrücke
 n 5\, 77736 Zell am Harmersbach\n Veranstalter:\n Tourist-Information Zell
  am Harmersbach\n Termin:\n Beginn: 11.06.2026\, 19:30 Uhr\n Ende: 11.06.2
 026\n Link:\n Zur Detailseite
DTSTART;TZID=Europe/Berlin:20260611T193000
DTEND;TZID=Europe/Berlin:20260611T223000
LOCATION:Heimatmuseum Fürstenberger Hof\, Steinrücken 5\, 77736 Zell am Har
 mersbach
SUMMARY:Hock beim Fürstenberger Hof mit dem Musikverein Unterharmersbach\, 
 Heimatmuseum Fürstenberger Hof
X-ALT-DESC;FMTTYPE=text/html:<strong>Kurzbeschreibung:</strong><br/>Hock be
 im Fürstenberger Hof mit dem Musikverein Unterharmersbach<br /><strong>Ort
 :</strong><br/>Heimatmuseum Fürstenberger Hof<br/>Steinrücken 5\, 77736 Ze
 ll am Harmersbach<br /><strong>Veranstalter:</strong><br/>Tourist-Informat
 ion Zell am Harmersbach<br /><strong>Termin:</strong><br/>Beginn: 11.06.20
 26\, 19:30 Uhr<br/>Ende: 11.06.2026<br /><strong>Link:</strong><br/><a hre
 f='https://zell.ortenaukultur.de/de/veranstaltungen/detail/veranstaltung/i
 d/453136-hock-beim-fuerstenberger-hof-mit-dem-musikverein-unterharmersbach
 /?vt=1'>Zur Detailseite</a>
END:VEVENT
END:VCALENDAR
