BEGIN:VCALENDAR
VERSION:2.0
PRODID:-//zell.ortenaukultur.de//NONSGML kigkonsult.se iCalcreator 2.41.92//
CALSCALE:GREGORIAN
METHOD:PUBLISH
UID:34313536-6337-4466-b639-633932666534
X-WR-TIMEZONE:Europe/Berlin
X-LIC-LOCATION:Europe/Berlin
BEGIN:VEVENT
UID:457655-kulturportal@zell.ortenaukultur.de
DTSTAMP:20260424T233508Z
DESCRIPTION:Kurzbeschreibung:\n Erlebnisstadtführung mit dem Marktweib Kätt
 erle und dem Hausierer Zympfer\n Ort:\n Kanzleiplatz\n Kanzleiplatz 1\, 77
 736 Zell am Harmersbach\n Veranstalter:\n Albert Schwarz und Brigitte Sum-
 Herrmann\n Termin:\n Beginn: 30.07.2026\, 18:00 Uhr\n Ende: 30.07.2026\n L
 ink:\n Zur Detailseite
DTSTART;TZID=Europe/Berlin:20260730T180000
DTEND;TZID=Europe/Berlin:20260730T210000
LOCATION:Kanzleiplatz\, Kanzleiplatz 1\, 77736 Zell am Harmersbach
SUMMARY:Erlebnisführung 'Sprücheklopfer'\, Kanzleiplatz
X-ALT-DESC;FMTTYPE=text/html:<strong>Kurzbeschreibung:</strong><br/>Erlebni
 sstadtführung mit dem Marktweib Kätterle und dem Hausierer Zympfer<br /><s
 trong>Ort:</strong><br/>Kanzleiplatz<br/>Kanzleiplatz 1\, 77736 Zell am Ha
 rmersbach<br /><strong>Veranstalter:</strong><br/>Albert Schwarz und Brigi
 tte Sum-Herrmann<br /><strong>Termin:</strong><br/>Beginn: 30.07.2026\, 18
 :00 Uhr<br/>Ende: 30.07.2026<br /><strong>Link:</strong><br/><a href='http
 s://zell.ortenaukultur.de/de/veranstaltungen/detail/veranstaltung/id/45765
 5-erlebnisfuehrung-spruecheklopfer/?vt=1'>Zur Detailseite</a>
END:VEVENT
END:VCALENDAR
