BEGIN:VCALENDAR
VERSION:2.0
PRODID:-//zell.ortenaukultur.de//NONSGML kigkonsult.se iCalcreator 2.41.92//
CALSCALE:GREGORIAN
METHOD:PUBLISH
UID:32376337-3766-4339-a561-376261643630
X-WR-TIMEZONE:Europe/Berlin
X-LIC-LOCATION:Europe/Berlin
BEGIN:VEVENT
UID:486202-kulturportal@zell.ortenaukultur.de
DTSTAMP:20260425T133616Z
DESCRIPTION:Kurzbeschreibung:\n Jedermann-Schießen des Sportschützenverein 
 am alten Wald.\n Ort:\n Schützenhaus am alten Wald\, Zell am Harmersbach\n
  Veranstalter:\n Sportschützenverein e. V. Zell a. H.\n Termin:\n Beginn: 
 13.06.2026\, 14:00 Uhr\n Ende: 13.06.2026\n Link:\n Zur Detailseite
DTSTART;TZID=Europe/Berlin:20260613T140000
DTEND;TZID=Europe/Berlin:20260613T170000
LOCATION:Schützenhaus am alten Wald\, Zell am Harmersbach
SUMMARY:Jedermann-Schießen\, Schützenhaus am alten Wald
X-ALT-DESC;FMTTYPE=text/html:<strong>Kurzbeschreibung:</strong><br/>Jederma
 nn-Schießen des Sportschützenverein am alten Wald.<br /><strong>Ort:</stro
 ng><br/>Schützenhaus am alten Wald\, Zell am Harmersbach<br /><strong>Vera
 nstalter:</strong><br/>Sportschützenverein e. V. Zell a. H.<br /><strong>T
 ermin:</strong><br/>Beginn: 13.06.2026\, 14:00 Uhr<br/>Ende: 13.06.2026<br
  /><strong>Link:</strong><br/><a href='https://zell.ortenaukultur.de/de/ve
 ranstaltungen/detail/veranstaltung/id/486202-jedermann-schiessen/?vt=1'>Zu
 r Detailseite</a>
END:VEVENT
END:VCALENDAR
