BEGIN:VCALENDAR
VERSION:2.0
PRODID:-//zell.ortenaukultur.de//NONSGML kigkonsult.se iCalcreator 2.41.92//
CALSCALE:GREGORIAN
METHOD:PUBLISH
UID:31646364-6662-4631-b939-613761326133
X-WR-TIMEZONE:Europe/Berlin
X-LIC-LOCATION:Europe/Berlin
BEGIN:VEVENT
UID:511563-kulturportal@zell.ortenaukultur.de
DTSTAMP:20260425T135427Z
DESCRIPTION:Kurzbeschreibung:\n Schwarzwälder Vesperspezialitäten\, fetzige
  Musik und Tanz\, das ist das Motto der Harmersbacher Heimatsommer.\n Blit
 zinfo:\n ABGESAGT\n Ort:\n Rathausplatz\n Dorf 30\, 77784 Oberharmersbach
 \n Veranstalter:\n Tourist-Information Oberharmersbach\n Termin:\n Beginn:
  15.07.2026\n Ende: 15.07.2026\n Tickets:\n Eintritt frei!\n Link:\n Zur D
 etailseite
DTSTART;TZID=Europe/Berlin:20260715T000000
DTEND;TZID=Europe/Berlin:20260715T030000
LOCATION:Rathausplatz\, Dorf 30\, 77784 Oberharmersbach
SUMMARY:Harmersbacher Heimatsommer\, Rathausplatz
X-ALT-DESC;FMTTYPE=text/html:<strong>Kurzbeschreibung:</strong><br/>Schwarz
 wälder Vesperspezialitäten\, fetzige Musik und Tanz\, das ist das Motto de
 r Harmersbacher Heimatsommer.<br /><strong>Blitzinfo:</strong><br/>ABGESAG
 T<br /><strong>Ort:</strong><br/>Rathausplatz<br/>Dorf 30\, 77784 Oberharm
 ersbach<br /><strong>Veranstalter:</strong><br/>Tourist-Information Oberha
 rmersbach<br /><strong>Termin:</strong><br/>Beginn: 15.07.2026<br/>Ende: 1
 5.07.2026<br /><strong>Tickets: </strong><br/>Eintritt frei!<br /><strong>
 Link:</strong><br/><a href='https://zell.ortenaukultur.de/de/veranstaltung
 en/detail/veranstaltung/id/511563-harmersbacher-heimatsommer/?vt=1'>Zur De
 tailseite</a>
END:VEVENT
END:VCALENDAR
