BEGIN:VCALENDAR
VERSION:2.0
PRODID:-//zell.ortenaukultur.de//NONSGML kigkonsult.se iCalcreator 2.41.92//
CALSCALE:GREGORIAN
METHOD:PUBLISH
UID:32666461-6463-4631-b230-646363376463
X-WR-TIMEZONE:Europe/Berlin
X-LIC-LOCATION:Europe/Berlin
BEGIN:VEVENT
UID:517753-kulturportal@zell.ortenaukultur.de
DTSTAMP:20260425T122457Z
DESCRIPTION:Kurzbeschreibung:\n Getränk im Glas\, Musik im Ohr\, Freunde un
 d Kollegen an der Seite - so klingt der Zeller Feierabend\n Ort:\n Rundofe
 n\n Kanzleiplatz 1\, 77736 Zell am Harmersbach\n Veranstalter:\n Kultur un
 d Stadtmarketing\n Termin:\n Beginn: 18.06.2026\n Ende: 18.06.2026\n Ticke
 ts:\n kostenfreie Veranstaltung\n Link:\n Zur Detailseite
DTSTART;TZID=Europe/Berlin:20260618T000000
DTEND;TZID=Europe/Berlin:20260618T030000
LOCATION:Rundofen \, Kanzleiplatz 1\, 77736 Zell am Harmersbach
SUMMARY:Afterwork Party - Endlich Feierabend\, Kanzleiplatz
X-ALT-DESC;FMTTYPE=text/html:<strong>Kurzbeschreibung:</strong><br/>Getränk
  im Glas\, Musik im Ohr\, Freunde und Kollegen an der Seite - so klingt de
 r Zeller Feierabend<br /><strong>Ort:</strong><br/>Rundofen <br/>Kanzleipl
 atz 1\, 77736 Zell am Harmersbach<br /><strong>Veranstalter:</strong><br/>
 Kultur und Stadtmarketing<br /><strong>Termin:</strong><br/>Beginn: 18.06.
 2026<br/>Ende: 18.06.2026<br /><strong>Tickets: </strong><br/>kostenfreie 
 Veranstaltung<br /><strong>Link:</strong><br/><a href='https://zell.ortena
 ukultur.de/de/veranstaltungen/detail/veranstaltung/id/517753-afterwork-par
 ty-endlich-feierabend/?vt=1'>Zur Detailseite</a>
END:VEVENT
END:VCALENDAR
