BEGIN:VCALENDAR
VERSION:2.0
PRODID:-//zell.ortenaukultur.de//NONSGML kigkonsult.se iCalcreator 2.41.92//
CALSCALE:GREGORIAN
METHOD:PUBLISH
UID:62363766-3738-4433-a239-636437323764
X-WR-TIMEZONE:Europe/Berlin
X-LIC-LOCATION:Europe/Berlin
BEGIN:VEVENT
UID:563239-kulturportal@zell.ortenaukultur.de
DTSTAMP:20260425T105538Z
DESCRIPTION:Kurzbeschreibung:\n Traditionelles Altstadtfest der Bürgergarde
  in der Gengenbacher Innenstadt mit Bewirtung und Unterhaltung\n Ort:\n In
 nenstadt Gengenbach\n Victor-Kretz-Str./Hauptstr.\, 77723 Gengenbach\n Ver
 anstalter:\n Bürgergarde Gengenbach\n Termin:\n Beginn: 05.07.2026\, 10:00
  Uhr\n Ende: 05.07.2026\n Link:\n Zur Detailseite
DTSTART;TZID=Europe/Berlin:20260705T100000
DTEND;TZID=Europe/Berlin:20260705T130000
LOCATION:Innenstadt Gengenbach\, Victor-Kretz-Str./Hauptstr.\, 77723 Gengen
 bach
SUMMARY:Altstadtfest\, Innenstadt Gengenbach
X-ALT-DESC;FMTTYPE=text/html:<strong>Kurzbeschreibung:</strong><br/>Traditi
 onelles Altstadtfest der Bürgergarde in der Gengenbacher Innenstadt mit Be
 wirtung und Unterhaltung<br /><strong>Ort:</strong><br/>Innenstadt Gengenb
 ach<br/>Victor-Kretz-Str./Hauptstr.\, 77723 Gengenbach<br /><strong>Verans
 talter:</strong><br/>Bürgergarde Gengenbach<br /><strong>Termin:</strong><
 br/>Beginn: 05.07.2026\, 10:00 Uhr<br/>Ende: 05.07.2026<br /><strong>Link:
 </strong><br/><a href='https://zell.ortenaukultur.de/de/veranstaltungen/de
 tail/veranstaltung/id/563239-altstadtfest/?vt=1'>Zur Detailseite</a>
END:VEVENT
END:VCALENDAR
