BEGIN:VCALENDAR
VERSION:2.0
PRODID:-//zell.ortenaukultur.de//NONSGML kigkonsult.se iCalcreator 2.41.92//
CALSCALE:GREGORIAN
METHOD:PUBLISH
UID:38333036-3635-4535-b531-656231636333
X-WR-TIMEZONE:Europe/Berlin
X-LIC-LOCATION:Europe/Berlin
BEGIN:VEVENT
UID:584702-kulturportal@zell.ortenaukultur.de
DTSTAMP:20260425T150940Z
DESCRIPTION:Kurzbeschreibung:\n Abendmahlsgottesdienst in der Ev. Kirche\n 
 Ort:\n Evangelische Kirche Gengenbach\n Grabenstraße 13-15\, 77723 Gengenb
 ach\n Veranstalter:\n Evangelische Kirche Gengenbach\n Termin:\n Beginn: 3
 1.12.2026\, 17:30 Uhr\n Ende: 31.12.2026\n Link:\n Zur Detailseite
DTSTART;TZID=Europe/Berlin:20261231T173000
DTEND;TZID=Europe/Berlin:20261231T203000
LOCATION:Evangelische Kirche Gengenbach\, Grabenstraße 13-15\, 77723 Gengen
 bach
SUMMARY:Abendmahlsgottesdienst in der Ev. Kirche\, Evangelische Kirche Geng
 enbach
X-ALT-DESC;FMTTYPE=text/html:<strong>Kurzbeschreibung:</strong><br/>Abendma
 hlsgottesdienst in der Ev. Kirche<br /><strong>Ort:</strong><br/>Evangelis
 che Kirche Gengenbach<br/>Grabenstraße 13-15\, 77723 Gengenbach<br /><stro
 ng>Veranstalter:</strong><br/>Evangelische Kirche Gengenbach<br /><strong>
 Termin:</strong><br/>Beginn: 31.12.2026\, 17:30 Uhr<br/>Ende: 31.12.2026<b
 r /><strong>Link:</strong><br/><a href='https://zell.ortenaukultur.de/de/v
 eranstaltungen/detail/veranstaltung/id/584702-abendmahlsgottesdienst-in-de
 r-ev-kirche/?vt=1'>Zur Detailseite</a>
END:VEVENT
END:VCALENDAR
