BEGIN:VCALENDAR
VERSION:2.0
PRODID:-//zell.ortenaukultur.de//NONSGML kigkonsult.se iCalcreator 2.41.92//
CALSCALE:GREGORIAN
METHOD:PUBLISH
UID:39643066-3963-4531-b630-656263346431
X-WR-TIMEZONE:Europe/Berlin
X-LIC-LOCATION:Europe/Berlin
BEGIN:VEVENT
UID:584788-kulturportal@zell.ortenaukultur.de
DTSTAMP:20260425T140833Z
DESCRIPTION:Kurzbeschreibung:\n Papiersammlung in Fußbach\n Ort:\n in Fußba
 ch\, Gengenbach-Fußbach\n Veranstalter:\n Förderverein der Trachtenkapelle
  Fußbach\n Termin:\n Beginn: 17.10.2026\n Ende: 17.10.2026\n Link:\n Zur D
 etailseite
DTSTART;VALUE=DATE:20261017
DTEND;VALUE=DATE:20261018
LOCATION:in Fußbach\, Gengenbach-Fußbach
SUMMARY:Papiersammlung in Fußbach\, in Fußbach
X-ALT-DESC;FMTTYPE=text/html:<strong>Kurzbeschreibung:</strong><br/>Papiers
 ammlung in Fußbach<br /><strong>Ort:</strong><br/>in Fußbach\, Gengenbach-
 Fußbach<br /><strong>Veranstalter:</strong><br/>Förderverein der Trachtenk
 apelle Fußbach<br /><strong>Termin:</strong><br/>Beginn: 17.10.2026<br/>En
 de: 17.10.2026<br /><strong>Link:</strong><br/><a href='https://zell.orten
 aukultur.de/de/veranstaltungen/detail/veranstaltung/id/584788-papiersammlu
 ng-in-fussbach/?vt=1'>Zur Detailseite</a>
END:VEVENT
END:VCALENDAR
