BEGIN:VCALENDAR
VERSION:2.0
PRODID:-//zell.ortenaukultur.de//NONSGML kigkonsult.se iCalcreator 2.41.92//
CALSCALE:GREGORIAN
METHOD:PUBLISH
UID:37636230-3337-4062-a633-363433396238
X-WR-TIMEZONE:Europe/Berlin
X-LIC-LOCATION:Europe/Berlin
BEGIN:VEVENT
UID:584868-kulturportal@zell.ortenaukultur.de
DTSTAMP:20260425T105933Z
DESCRIPTION:Kurzbeschreibung:\n Maibaumstellen in Schwaibach\n Ort:\n Ratha
 usplatz Schwaibach\, Gengenbach-Schwaibach\n Veranstalter:\n MSF und KLJB 
 Schwaibach\n Termin:\n Beginn: 30.04.2026\, 18:00 Uhr\n Ende: 30.04.2026\n
  Link:\n Zur Detailseite
DTSTART;TZID=Europe/Berlin:20260430T180000
DTEND;TZID=Europe/Berlin:20260430T210000
LOCATION:Rathausplatz Schwaibach\, Gengenbach-Schwaibach
SUMMARY:Maibaumstellen in Schwaibach\, Rathausplatz Schwaibach
X-ALT-DESC;FMTTYPE=text/html:<strong>Kurzbeschreibung:</strong><br/>Maibaum
 stellen in Schwaibach<br /><strong>Ort:</strong><br/>Rathausplatz Schwaiba
 ch\, Gengenbach-Schwaibach<br /><strong>Veranstalter:</strong><br/>MSF und
  KLJB Schwaibach<br /><strong>Termin:</strong><br/>Beginn: 30.04.2026\, 18
 :00 Uhr<br/>Ende: 30.04.2026<br /><strong>Link:</strong><br/><a href='http
 s://zell.ortenaukultur.de/de/veranstaltungen/detail/veranstaltung/id/58486
 8-maibaumstellen-in-schwaibach/?vt=1'>Zur Detailseite</a>
END:VEVENT
END:VCALENDAR
