BEGIN:VCALENDAR
VERSION:2.0
PRODID:-//zell.ortenaukultur.de//NONSGML kigkonsult.se iCalcreator 2.41.92//
CALSCALE:GREGORIAN
METHOD:PUBLISH
UID:38643230-3463-4162-b133-353563353061
X-WR-TIMEZONE:Europe/Berlin
X-LIC-LOCATION:Europe/Berlin
BEGIN:VEVENT
UID:590287-kulturportal@zell.ortenaukultur.de
DTSTAMP:20260425T105533Z
DESCRIPTION:Kurzbeschreibung:\n Genießen Sie den Duft der Kräuter auf dem h
 errlich gelegenen Bergbauernhof inkl. Kräuter-Fingerfood. 25 Euro p.P.\, A
 nmeldung: 07838 663\, Heidenbühl 2.\n Ort:\n Heidenbühlhof\n Heidenbühl 2\
 , 77787 Nordrach\n Veranstalter:\n Heidenbühlhof\n Termin:\n Beginn: 19.09
 .2026\, 10:00 Uhr\n Ende: 19.09.2026\n Link:\n Zur Detailseite
DTSTART;TZID=Europe/Berlin:20260919T100000
DTEND;TZID=Europe/Berlin:20260919T130000
LOCATION:Heidenbühlhof\, Heidenbühl 2\, 77787 Nordrach
SUMMARY:Duftende Kräuter im hofeigenen Bauernkräutergarten\, Heidenbühlhof
X-ALT-DESC;FMTTYPE=text/html:<strong>Kurzbeschreibung:</strong><br/>Genieße
 n Sie den Duft der Kräuter auf dem herrlich gelegenen Bergbauernhof inkl. 
 Kräuter-Fingerfood. 25 Euro p.P.\, Anmeldung: 07838 663\, Heidenbühl 2.<br
  /><strong>Ort:</strong><br/>Heidenbühlhof<br/>Heidenbühl 2\, 77787 Nordra
 ch<br /><strong>Veranstalter:</strong><br/>Heidenbühlhof<br /><strong>Term
 in:</strong><br/>Beginn: 19.09.2026\, 10:00 Uhr<br/>Ende: 19.09.2026<br />
 <strong>Link:</strong><br/><a href='https://zell.ortenaukultur.de/de/veran
 staltungen/detail/veranstaltung/id/590287-duftende-kraeuter-im-hofeigenen-
 bauernkraeutergarten/?vt=1'>Zur Detailseite</a>
END:VEVENT
END:VCALENDAR
