BEGIN:VCALENDAR
VERSION:2.0
PRODID:-//zell.ortenaukultur.de//NONSGML kigkonsult.se iCalcreator 2.41.92//
CALSCALE:GREGORIAN
METHOD:PUBLISH
UID:63643866-6532-4165-b463-323638373164
X-WR-TIMEZONE:Europe/Berlin
X-LIC-LOCATION:Europe/Berlin
BEGIN:VEVENT
UID:591252-kulturportal@zell.ortenaukultur.de
DTSTAMP:20260425T105441Z
DESCRIPTION:Kurzbeschreibung:\n Zeller Sommermusik - Thomas Strauß und Bern
 hard Münchbach – Trompete und Orgel\n Ort:\n Evangelische Kirche\n Kirchst
 r. 14\, 77736 Zell am Harmersbach\n Veranstalter:\n Kultur und Stadtmarket
 ing\n Termin:\n Beginn: 15.07.2026\, 19:00 Uhr\n Ende: 15.07.2026\n Link:
 \n Zur Detailseite
DTSTART;TZID=Europe/Berlin:20260715T190000
DTEND;TZID=Europe/Berlin:20260715T220000
LOCATION:Evangelische Kirche\, Kirchstr. 14\, 77736 Zell am Harmersbach
SUMMARY:Thomas Strauß und Bernhard Münchbach – Trompete und Orgel\, Evangel
 ische Kirche
X-ALT-DESC;FMTTYPE=text/html:<strong>Kurzbeschreibung:</strong><br/>Zeller 
 Sommermusik - Thomas Strauß und Bernhard Münchbach – Trompete und Orgel <b
 r /><strong>Ort:</strong><br/>Evangelische Kirche<br/>Kirchstr. 14\, 77736
  Zell am Harmersbach<br /><strong>Veranstalter:</strong><br/>Kultur und St
 adtmarketing<br /><strong>Termin:</strong><br/>Beginn: 15.07.2026\, 19:00 
 Uhr<br/>Ende: 15.07.2026<br /><strong>Link:</strong><br/><a href='https://
 zell.ortenaukultur.de/de/veranstaltungen/detail/veranstaltung/id/591252-th
 omas-strauss-und-bernhard-muenchbach-trompete-und-orgel/?vt=1'>Zur Details
 eite</a>
END:VEVENT
END:VCALENDAR
