BEGIN:VCALENDAR
VERSION:2.0
PRODID:-//zell.ortenaukultur.de//NONSGML kigkonsult.se iCalcreator 2.41.92//
CALSCALE:GREGORIAN
METHOD:PUBLISH
UID:39373936-3964-4634-b030-303765356535
X-WR-TIMEZONE:Europe/Berlin
X-LIC-LOCATION:Europe/Berlin
BEGIN:VEVENT
UID:591253-kulturportal@zell.ortenaukultur.de
DTSTAMP:20260425T105522Z
DESCRIPTION:Kurzbeschreibung:\n Zeller Sommermusik - Barock trifft Südameri
 ka\, Maximilian Mangold\, Laute und Gitarre\n Ort:\n Evangelische Kirche\n
  Kirchstr. 14\, 77736 Zell am Harmersbach\n Veranstalter:\n Kultur und Sta
 dtmarketing\n Termin:\n Beginn: 29.07.2026\, 19:00 Uhr\n Ende: 29.07.2026
 \n Link:\n Zur Detailseite
DTSTART;TZID=Europe/Berlin:20260729T190000
DTEND;TZID=Europe/Berlin:20260729T220000
LOCATION:Evangelische Kirche\, Kirchstr. 14\, 77736 Zell am Harmersbach
SUMMARY:Barock trifft Südamerika \, Evangelische Kirche
X-ALT-DESC;FMTTYPE=text/html:<strong>Kurzbeschreibung:</strong><br/>Zeller 
 Sommermusik - Barock trifft Südamerika\, Maximilian Mangold\, Laute und Gi
 tarre <br /><strong>Ort:</strong><br/>Evangelische Kirche<br/>Kirchstr. 14
 \, 77736 Zell am Harmersbach<br /><strong>Veranstalter:</strong><br/>Kultu
 r und Stadtmarketing<br /><strong>Termin:</strong><br/>Beginn: 29.07.2026\
 , 19:00 Uhr<br/>Ende: 29.07.2026<br /><strong>Link:</strong><br/><a href='
 https://zell.ortenaukultur.de/de/veranstaltungen/detail/veranstaltung/id/5
 91253-barock-trifft-suedamerika/?vt=1'>Zur Detailseite</a>
END:VEVENT
END:VCALENDAR
