BEGIN:VCALENDAR
VERSION:2.0
PRODID:-//zell.ortenaukultur.de//NONSGML kigkonsult.se iCalcreator 2.41.92//
CALSCALE:GREGORIAN
METHOD:PUBLISH
UID:35333366-3136-4163-b233-643464313833
X-WR-TIMEZONE:Europe/Berlin
X-LIC-LOCATION:Europe/Berlin
BEGIN:VEVENT
UID:123500-kulturportal@zell.ortenaukultur.de
DTSTAMP:20260425T102515Z
DESCRIPTION:Kurzbeschreibung:\n „Herrgottstag“ im Zeller Städtle – Feiertag
  mit Bürgerwehraufmarsch\n Ort:\n Katholische Stadtkirche St. Symphorian\n
  Kirchstr.\, 77736 Zell am Harmersbach\n Veranstalter:\n Katholisches Pfar
 ramt\n Termin:\n Beginn: 04.06.2026\, 09:00 Uhr\n Ende: 04.06.2026\n Link:
 \n Page détaillée
DTSTART;TZID=Europe/Berlin:20260604T090000
DTEND;TZID=Europe/Berlin:20260604T120000
LOCATION:Katholische Stadtkirche St. Symphorian\, Kirchstr.\, 77736 Zell am
  Harmersbach
SUMMARY:Fronleichnam\, Katholische Stadtkirche St. Symphorian
X-ALT-DESC;FMTTYPE=text/html:<strong>Kurzbeschreibung:</strong><br/>„Herrgo
 ttstag“ im Zeller Städtle – Feiertag mit Bürgerwehraufmarsch<br /><strong>
 Ort:</strong><br/>Katholische Stadtkirche St. Symphorian<br/>Kirchstr.\, 7
 7736 Zell am Harmersbach<br /><strong>Veranstalter:</strong><br/>Katholisc
 hes Pfarramt<br /><strong>Termin:</strong><br/>Beginn: 04.06.2026\, 09:00 
 Uhr<br/>Ende: 04.06.2026<br /><strong>Link:</strong><br/><a href='https://
 zell.ortenaukultur.de/fr/evenements/detail/evenement/id/123500-fronleichna
 m/?vt=1'>Page détaillée </a>
END:VEVENT
END:VCALENDAR
