BEGIN:VCALENDAR
VERSION:2.0
PRODID:-//zell.ortenaukultur.de//NONSGML kigkonsult.se iCalcreator 2.41.92//
CALSCALE:GREGORIAN
METHOD:PUBLISH
UID:62646166-3938-4130-b632-326161343932
X-WR-TIMEZONE:Europe/Berlin
X-LIC-LOCATION:Europe/Berlin
BEGIN:VEVENT
UID:123509-kulturportal@zell.ortenaukultur.de
DTSTAMP:20260425T164414Z
DESCRIPTION:Kurzbeschreibung:\n Großes Festzelt am Fürstenberger Hof Unterh
 armersbach\n Ort:\n Heimatmuseum Fürstenberger Hof\n Steinrücken 5\, 77736
  Zell am Harmersbach\n Veranstalter:\n Guggemusik Eckwaldpuper\n Termin:\n
  Beginn: 27.06.2026\, 18:00 Uhr\n Ende: 27.06.2026\n Link:\n Page détaillé
 e
DTSTART;TZID=Europe/Berlin:20260627T180000
DTEND;TZID=Europe/Berlin:20260627T210000
LOCATION:Heimatmuseum Fürstenberger Hof\, Steinrücken 5\, 77736 Zell am Har
 mersbach
SUMMARY:Sommer Openair-Konzert Guggemusik Eckwaldpuper\, Heimatmuseum Fürst
 enberger Hof
X-ALT-DESC;FMTTYPE=text/html:<strong>Kurzbeschreibung:</strong><br/>Großes 
 Festzelt am Fürstenberger Hof Unterharmersbach<br /><strong>Ort:</strong><
 br/>Heimatmuseum Fürstenberger Hof<br/>Steinrücken 5\, 77736 Zell am Harme
 rsbach<br /><strong>Veranstalter:</strong><br/>Guggemusik Eckwaldpuper<br 
 /><strong>Termin:</strong><br/>Beginn: 27.06.2026\, 18:00 Uhr<br/>Ende: 27
 .06.2026<br /><strong>Link:</strong><br/><a href='https://zell.ortenaukult
 ur.de/fr/evenements/detail/evenement/id/123509-sommer-openair-konzert-gugg
 emusik-eckwaldpuper/?vt=1'>Page détaillée </a>
END:VEVENT
END:VCALENDAR
