BEGIN:VCALENDAR
VERSION:2.0
PRODID:-//zell.ortenaukultur.de//NONSGML kigkonsult.se iCalcreator 2.41.92//
CALSCALE:GREGORIAN
METHOD:PUBLISH
UID:64303465-6363-4030-b636-313537653838
X-WR-TIMEZONE:Europe/Berlin
X-LIC-LOCATION:Europe/Berlin
BEGIN:VEVENT
UID:144420-kulturportal@zell.ortenaukultur.de
DTSTAMP:20260424T233343Z
DESCRIPTION:Kurzbeschreibung:\n Gottesdienst im 'Grünen' im Kurpark\, neben
  der Evangelischen Kirche\n Ort:\n Evangelische Kirche\n Kirchstr. 14\, 77
 736 Zell am Harmersbach\n Veranstalter:\n Evangelische Kirchengemeinde\n T
 ermin:\n Beginn: 14.06.2026\, 10:00 Uhr\n Ende: 14.06.2026\n Link:\n Page 
 détaillée
DTSTART;TZID=Europe/Berlin:20260614T100000
DTEND;TZID=Europe/Berlin:20260614T130000
LOCATION:Evangelische Kirche\, Kirchstr. 14\, 77736 Zell am Harmersbach
SUMMARY:Gottesdienst im Grünen\, Evangelische Kirche
X-ALT-DESC;FMTTYPE=text/html:<strong>Kurzbeschreibung:</strong><br/>Gottesd
 ienst im 'Grünen' im Kurpark\, neben der Evangelischen Kirche<br /><strong
 >Ort:</strong><br/>Evangelische Kirche<br/>Kirchstr. 14\, 77736 Zell am Ha
 rmersbach<br /><strong>Veranstalter:</strong><br/>Evangelische Kirchengeme
 inde<br /><strong>Termin:</strong><br/>Beginn: 14.06.2026\, 10:00 Uhr<br/>
 Ende: 14.06.2026<br /><strong>Link:</strong><br/><a href='https://zell.ort
 enaukultur.de/fr/evenements/detail/evenement/id/144420-gottesdienst-im-gru
 enen/?vt=1'>Page détaillée </a>
END:VEVENT
END:VCALENDAR
