BEGIN:VCALENDAR
VERSION:2.0
PRODID:-//zell.ortenaukultur.de//NONSGML kigkonsult.se iCalcreator 2.41.92//
CALSCALE:GREGORIAN
METHOD:PUBLISH
UID:31653061-3166-4961-a366-636265303233
X-WR-TIMEZONE:Europe/Berlin
X-LIC-LOCATION:Europe/Berlin
BEGIN:VEVENT
UID:383635-kulturportal@zell.ortenaukultur.de
DTSTAMP:20260425T104433Z
DESCRIPTION:Kurzbeschreibung:\n Vier Tage Feststimmung für alle Generatione
 n\n Ort:\n Kilwiplatz Unterentersbach\n Zeller Str. 12\, 77736 Zell am Har
 mersbach\n Veranstalter:\n Musikverein Unterentersbach e. V.\n Termin:\n B
 eginn: 10.08.2026\n Ende: 10.08.2026\n Link:\n Page détaillée
DTSTART;TZID=Europe/Berlin:20260810T000000
DTEND;TZID=Europe/Berlin:20260810T030000
LOCATION:Kilwiplatz Unterentersbach\, Zeller Str. 12\, 77736 Zell am Harmer
 sbach
SUMMARY:Entersbacher Kilwi\, Dorfgemeinschaftshaus Unterentersbach
X-ALT-DESC;FMTTYPE=text/html:<strong>Kurzbeschreibung:</strong><br/>Vier Ta
 ge Feststimmung für alle Generationen<br /><strong>Ort:</strong><br/>Kilwi
 platz Unterentersbach<br/>Zeller Str. 12\, 77736 Zell am Harmersbach<br />
 <strong>Veranstalter:</strong><br/>Musikverein Unterentersbach e. V.<br />
 <strong>Termin:</strong><br/>Beginn: 10.08.2026<br/>Ende: 10.08.2026<br />
 <strong>Link:</strong><br/><a href='https://zell.ortenaukultur.de/fr/evene
 ments/detail/evenement/id/383635-entersbacher-kilwi/?vt=1'>Page détaillée 
 </a>
END:VEVENT
END:VCALENDAR
