BEGIN:VCALENDAR
VERSION:2.0
PRODID:-//zell.ortenaukultur.de//NONSGML kigkonsult.se iCalcreator 2.41.92//
CALSCALE:GREGORIAN
METHOD:PUBLISH
UID:61396665-6338-4366-b337-333334343538
X-WR-TIMEZONE:Europe/Berlin
X-LIC-LOCATION:Europe/Berlin
BEGIN:VEVENT
UID:412708-kulturportal@zell.ortenaukultur.de
DTSTAMP:20260425T024938Z
DESCRIPTION:Kurzbeschreibung:\n Spaß und Spannung beim Open-Air-Kino\n Ort:
 \n Beim Rundofen oder Kanzleiplatz\n Kanzleiplatz 1\, 77736 Zell am Harmer
 sbach\n Veranstalter:\n Kultur und Stadtmarketing\n Termin:\n Beginn: 17.0
 7.2026\, 21:30 Uhr\n Ende: 18.07.2026\n Tickets:\n Eintritt: 10\,00 €\n Li
 nk:\n Page détaillée
DTSTART;TZID=Europe/Berlin:20260717T213000
DTEND;TZID=Europe/Berlin:20260718T003000
LOCATION:Beim Rundofen oder Kanzleiplatz\, Kanzleiplatz 1\, 77736 Zell am H
 armersbach
SUMMARY:Open-Air-Kino\, Kanzleiplatz
X-ALT-DESC;FMTTYPE=text/html:<strong>Kurzbeschreibung:</strong><br/>Spaß un
 d Spannung beim Open-Air-Kino<br /><strong>Ort:</strong><br/>Beim Rundofen
  oder Kanzleiplatz<br/>Kanzleiplatz 1\, 77736 Zell am Harmersbach<br /><st
 rong>Veranstalter:</strong><br/>Kultur und Stadtmarketing<br /><strong>Ter
 min:</strong><br/>Beginn: 17.07.2026\, 21:30 Uhr<br/>Ende: 18.07.2026<br /
 ><strong>Tickets: </strong><br/>Eintritt: 10\,00 €<br /><strong>Link:</str
 ong><br/><a href='https://zell.ortenaukultur.de/fr/evenements/detail/evene
 ment/id/412708-open-air-kino/?vt=1'>Page détaillée </a>
END:VEVENT
END:VCALENDAR
