BEGIN:VCALENDAR
VERSION:2.0
PRODID:-//zell.ortenaukultur.de//NONSGML kigkonsult.se iCalcreator 2.41.92//
CALSCALE:GREGORIAN
METHOD:PUBLISH
UID:30393766-3437-4130-b064-613964663761
X-WR-TIMEZONE:Europe/Berlin
X-LIC-LOCATION:Europe/Berlin
BEGIN:VEVENT
UID:476090-kulturportal@zell.ortenaukultur.de
DTSTAMP:20260425T135341Z
DESCRIPTION:Kurzbeschreibung:\n Schwing dich auf’s Rad und sei ein Teil vom
  STADTRADELN 2024 vom 01.- 21. Mai!\n Ort:\n Zell am Harmersbach\, Zell am
  Harmersbach\n Veranstalter:\n Kultur und Stadtmarketing\n Termin:\n Begin
 n: 01.05.2026\n Ende: 01.05.2026\n Link:\n Page détaillée
DTSTART;VALUE=DATE:20260501
DTEND;VALUE=DATE:20260502
LOCATION:Zell am Harmersbach\, Zell am Harmersbach
SUMMARY:Stadtradeln 2026 in Zell am Harmersbach\, Zell am Harmersbach
X-ALT-DESC;FMTTYPE=text/html:<strong>Kurzbeschreibung:</strong><br/>Schwing
  dich auf’s Rad und sei ein Teil vom STADTRADELN 2024 vom 01.- 21. Mai! <b
 r /><strong>Ort:</strong><br/>Zell am Harmersbach\, Zell am Harmersbach<br
  /><strong>Veranstalter:</strong><br/>Kultur und Stadtmarketing<br /><stro
 ng>Termin:</strong><br/>Beginn: 01.05.2026<br/>Ende: 01.05.2026<br /><stro
 ng>Link:</strong><br/><a href='https://zell.ortenaukultur.de/fr/evenements
 /detail/evenement/id/476090-stadtradeln-2026-in-zell-am-harmersbach/?vt=1'
 >Page détaillée </a>
END:VEVENT
END:VCALENDAR
