BEGIN:VCALENDAR
VERSION:2.0
PRODID:-//zell.ortenaukultur.de//NONSGML kigkonsult.se iCalcreator 2.41.92//
CALSCALE:GREGORIAN
METHOD:PUBLISH
UID:64353663-6338-4330-a339-383163323863
X-WR-TIMEZONE:Europe/Berlin
X-LIC-LOCATION:Europe/Berlin
BEGIN:VEVENT
UID:486208-kulturportal@zell.ortenaukultur.de
DTSTAMP:20260425T122624Z
DESCRIPTION:Kurzbeschreibung:\n Ein buntes mitreißendes Programm unter der 
 musikalischen Leitung der hinreißend-leidenschaftlichen Steffi Nock! Im Bü
 rgerpark.\n Ort:\n Bürgerpark\n Im Dorf 26\, 77787 Nordrach\n Veranstalter
 :\n Gitarrenverein Nordrach\n Termin:\n Beginn: 10.07.2026\, 19:00 Uhr\n E
 nde: 10.07.2026\n Link:\n Page détaillée
DTSTART;TZID=Europe/Berlin:20260710T190000
DTEND;TZID=Europe/Berlin:20260710T220000
LOCATION:Bürgerpark\, Im Dorf 26\, 77787 Nordrach
SUMMARY:Chillout-Konzert mit dem Nordracher Gitarrenverein\, Bürgerpark
X-ALT-DESC;FMTTYPE=text/html:<strong>Kurzbeschreibung:</strong><br/>Ein bun
 tes mitreißendes Programm unter der musikalischen Leitung der hinreißend-l
 eidenschaftlichen Steffi Nock! Im Bürgerpark.\n<br /><strong>Ort:</strong>
 <br/>Bürgerpark<br/>Im Dorf 26\, 77787 Nordrach<br /><strong>Veranstalter:
 </strong><br/>Gitarrenverein Nordrach<br /><strong>Termin:</strong><br/>Be
 ginn: 10.07.2026\, 19:00 Uhr<br/>Ende: 10.07.2026<br /><strong>Link:</stro
 ng><br/><a href='https://zell.ortenaukultur.de/fr/evenements/detail/evenem
 ent/id/486208-chillout-konzert-mit-dem-nordracher-gitarrenverein/?vt=1'>Pa
 ge détaillée </a>
END:VEVENT
END:VCALENDAR
