BEGIN:VCALENDAR
VERSION:2.0
PRODID:-//zell.ortenaukultur.de//NONSGML kigkonsult.se iCalcreator 2.41.92//
CALSCALE:GREGORIAN
METHOD:PUBLISH
UID:63623565-3766-4965-b962-383831663630
X-WR-TIMEZONE:Europe/Berlin
X-LIC-LOCATION:Europe/Berlin
BEGIN:VEVENT
UID:486974-kulturportal@zell.ortenaukultur.de
DTSTAMP:20260424T233518Z
DESCRIPTION:Kurzbeschreibung:\n Hock beim Tellerbau (Kulturzentrum) mit dem
  Musikverein Unterharmersbach\n Ort:\n Tellerbau (Kulturzentrum Obere Fabr
 ik)\n Fabrikstr. 5\, 77736 Zell am Harmersbach\n Veranstalter:\n Kultur un
 d Stadtmarketing\n Termin:\n Beginn: 16.07.2026\, 19:30 Uhr\n Ende: 16.07.
 2026\n Link:\n Page détaillée
DTSTART;TZID=Europe/Berlin:20260716T193000
DTEND;TZID=Europe/Berlin:20260716T223000
LOCATION:Tellerbau (Kulturzentrum Obere Fabrik)\, Fabrikstr. 5\, 77736 Zell
  am Harmersbach
SUMMARY:Hock beim Tellerbau (Kulturzentrum) mit dem Musikverein Unterharmer
 sbach\, Tellerbau (Kulturzentrum Obere Fabrik)
X-ALT-DESC;FMTTYPE=text/html:<strong>Kurzbeschreibung:</strong><br/>Hock be
 im Tellerbau (Kulturzentrum) mit dem Musikverein Unterharmersbach<br /><st
 rong>Ort:</strong><br/>Tellerbau (Kulturzentrum Obere Fabrik)<br/>Fabrikst
 r. 5\, 77736 Zell am Harmersbach<br /><strong>Veranstalter:</strong><br/>K
 ultur und Stadtmarketing<br /><strong>Termin:</strong><br/>Beginn: 16.07.2
 026\, 19:30 Uhr<br/>Ende: 16.07.2026<br /><strong>Link:</strong><br/><a hr
 ef='https://zell.ortenaukultur.de/fr/evenements/detail/evenement/id/486974
 -hock-beim-tellerbau-kulturzentrum-mit-dem-musikverein-unterharmersbach/?v
 t=1'>Page détaillée </a>
END:VEVENT
END:VCALENDAR
