BEGIN:VCALENDAR
VERSION:2.0
PRODID:-//zell.ortenaukultur.de//NONSGML kigkonsult.se iCalcreator 2.41.92//
CALSCALE:GREGORIAN
METHOD:PUBLISH
UID:62343939-6439-4364-b838-343430633162
X-WR-TIMEZONE:Europe/Berlin
X-LIC-LOCATION:Europe/Berlin
BEGIN:VEVENT
UID:487088-kulturportal@zell.ortenaukultur.de
DTSTAMP:20260425T115344Z
DESCRIPTION:Kurzbeschreibung:\n Zell tanzt - Tanzworkshop des Tanzsportclub
  Harmersbachtal\n Ort:\n Jahnturnhalle oder Ritter von Buss Halle\n Jahnst
 r.\, 77736 Zell am Harmersbach\n Veranstalter:\n Tanzsportclub Harmersbach
 tal e. V. 1982\n Termin:\n Beginn: 27.09.2026\, 10:30 Uhr\n Ende: 27.09.20
 26\n Link:\n Page détaillée
DTSTART;TZID=Europe/Berlin:20260927T103000
DTEND;TZID=Europe/Berlin:20260927T133000
LOCATION:Jahnturnhalle oder Ritter von Buss Halle\, Jahnstr.\, 77736 Zell a
 m Harmersbach
SUMMARY:Zell tanzt\, Jahnturnhalle
X-ALT-DESC;FMTTYPE=text/html:<strong>Kurzbeschreibung:</strong><br/>Zell ta
 nzt - Tanzworkshop des Tanzsportclub Harmersbachtal<br /><strong>Ort:</str
 ong><br/>Jahnturnhalle oder Ritter von Buss Halle<br/>Jahnstr.\, 77736 Zel
 l am Harmersbach<br /><strong>Veranstalter:</strong><br/>Tanzsportclub Har
 mersbachtal e. V. 1982<br /><strong>Termin:</strong><br/>Beginn: 27.09.202
 6\, 10:30 Uhr<br/>Ende: 27.09.2026<br /><strong>Link:</strong><br/><a href
 ='https://zell.ortenaukultur.de/fr/evenements/detail/evenement/id/487088-z
 ell-tanzt/?vt=1'>Page détaillée </a>
END:VEVENT
END:VCALENDAR
