BEGIN:VCALENDAR
VERSION:2.0
PRODID:-//zell.ortenaukultur.de//NONSGML kigkonsult.se iCalcreator 2.41.92//
CALSCALE:GREGORIAN
METHOD:PUBLISH
UID:62633138-3461-4764-a335-623731663364
X-WR-TIMEZONE:Europe/Berlin
X-LIC-LOCATION:Europe/Berlin
BEGIN:VEVENT
UID:504125-kulturportal@zell.ortenaukultur.de
DTSTAMP:20260425T163912Z
DESCRIPTION:Kurzbeschreibung:\n Das glühende Eisen in der Esse\, der Klang 
 des Hammers auf dem Amboss - spannend auch für Familien mit Kindern! Eintr
 itt frei\, Talstraße 9.\n Ort:\n Backofenschmiede\n Talstraße 9\, 77738 No
 rdrach\n Veranstalter:\n Touristen-Information Nordrach\n Termin:\n Beginn
 : 10.10.2026\, 12:00 Uhr\n Ende: 10.10.2026\n Link:\n Page détaillée
DTSTART;TZID=Europe/Berlin:20261010T120000
DTEND;TZID=Europe/Berlin:20261010T150000
LOCATION:Backofenschmiede\, Talstraße 9\, 77738 Nordrach
SUMMARY:Schauschmieden in der historischen 'Backofenschmiede'!\, Backofensc
 hmiede
X-ALT-DESC;FMTTYPE=text/html:<strong>Kurzbeschreibung:</strong><br/>Das glü
 hende Eisen in der Esse\, der Klang des Hammers auf dem Amboss - spannend 
 auch für Familien mit Kindern! Eintritt frei\, Talstraße 9. <br /><strong>
 Ort:</strong><br/>Backofenschmiede<br/>Talstraße 9\, 77738 Nordrach<br /><
 strong>Veranstalter:</strong><br/>Touristen-Information Nordrach<br /><str
 ong>Termin:</strong><br/>Beginn: 10.10.2026\, 12:00 Uhr<br/>Ende: 10.10.20
 26<br /><strong>Link:</strong><br/><a href='https://zell.ortenaukultur.de/
 fr/evenements/detail/evenement/id/504125-schauschmieden-in-der-historische
 n-backofenschmiede/?vt=1'>Page détaillée </a>
END:VEVENT
END:VCALENDAR
