BEGIN:VCALENDAR
VERSION:2.0
PRODID:-//zell.ortenaukultur.de//NONSGML kigkonsult.se iCalcreator 2.41.92//
CALSCALE:GREGORIAN
METHOD:PUBLISH
UID:36613566-6238-4639-b330-313666366263
X-WR-TIMEZONE:Europe/Berlin
X-LIC-LOCATION:Europe/Berlin
BEGIN:VEVENT
UID:511565-kulturportal@zell.ortenaukultur.de
DTSTAMP:20260425T133358Z
DESCRIPTION:Kurzbeschreibung:\n Schwarzwälder Vesperspezialitäten\, fetzige
  Musik und Tanz\, das ist das Motto der Harmersbacher Heimatsommer.\n Ort:
 \n Rathausplatz\n Dorf 30\, 77784 Oberharmersbach\n Veranstalter:\n Touris
 t-Information Oberharmersbach\n Termin:\n Beginn: 29.07.2026\n Ende: 29.07
 .2026\n Tickets:\n Eintritt frei!\n Link:\n Page détaillée
DTSTART;TZID=Europe/Berlin:20260729T000000
DTEND;TZID=Europe/Berlin:20260729T030000
LOCATION:Rathausplatz\, Dorf 30\, 77784 Oberharmersbach
SUMMARY:Harmersbacher Heimatsommer\, Rathausplatz
X-ALT-DESC;FMTTYPE=text/html:<strong>Kurzbeschreibung:</strong><br/>Schwarz
 wälder Vesperspezialitäten\, fetzige Musik und Tanz\, das ist das Motto de
 r Harmersbacher Heimatsommer.<br /><strong>Ort:</strong><br/>Rathausplatz<
 br/>Dorf 30\, 77784 Oberharmersbach<br /><strong>Veranstalter:</strong><br
 />Tourist-Information Oberharmersbach<br /><strong>Termin:</strong><br/>Be
 ginn: 29.07.2026<br/>Ende: 29.07.2026<br /><strong>Tickets: </strong><br/>
 Eintritt frei!<br /><strong>Link:</strong><br/><a href='https://zell.orten
 aukultur.de/fr/evenements/detail/evenement/id/511565-harmersbacher-heimats
 ommer/?vt=1'>Page détaillée </a>
END:VEVENT
END:VCALENDAR
