BEGIN:VCALENDAR
VERSION:2.0
PRODID:-//zell.ortenaukultur.de//NONSGML kigkonsult.se iCalcreator 2.41.92//
CALSCALE:GREGORIAN
METHOD:PUBLISH
UID:38363361-3735-4233-a337-323231346635
X-WR-TIMEZONE:Europe/Berlin
X-LIC-LOCATION:Europe/Berlin
BEGIN:VEVENT
UID:520031-kulturportal@zell.ortenaukultur.de
DTSTAMP:20260425T104418Z
DESCRIPTION:Kurzbeschreibung:\n Vier Tage Feststimmung für alle Generatione
 n\n Ort:\n Kilwiplatz Unterentersbach\n Zeller Str. 12\, 77736 Zell am Har
 mersbach\n Veranstalter:\n Musikverein Unterentersbach e. V.\n Termin:\n B
 eginn: 07.08.2026\, 20:00 Uhr\n Ende: 07.08.2026\n Link:\n Page détaillée
DTSTART;TZID=Europe/Berlin:20260807T200000
DTEND;TZID=Europe/Berlin:20260807T230000
LOCATION:Kilwiplatz Unterentersbach\, Zeller Str. 12\, 77736 Zell am Harmer
 sbach
SUMMARY:Entersbacher Kilwi\, Dorfgemeinschaftshaus Unterentersbach
X-ALT-DESC;FMTTYPE=text/html:<strong>Kurzbeschreibung:</strong><br/>Vier Ta
 ge Feststimmung für alle Generationen<br /><strong>Ort:</strong><br/>Kilwi
 platz Unterentersbach<br/>Zeller Str. 12\, 77736 Zell am Harmersbach<br />
 <strong>Veranstalter:</strong><br/>Musikverein Unterentersbach e. V.<br />
 <strong>Termin:</strong><br/>Beginn: 07.08.2026\, 20:00 Uhr<br/>Ende: 07.0
 8.2026<br /><strong>Link:</strong><br/><a href='https://zell.ortenaukultur
 .de/fr/evenements/detail/evenement/id/520031-entersbacher-kilwi/?vt=1'>Pag
 e détaillée </a>
END:VEVENT
END:VCALENDAR
