BEGIN:VCALENDAR
VERSION:2.0
PRODID:-//zell.ortenaukultur.de//NONSGML kigkonsult.se iCalcreator 2.41.92//
CALSCALE:GREGORIAN
METHOD:PUBLISH
UID:36386537-3537-4164-a161-353831353836
X-WR-TIMEZONE:Europe/Berlin
X-LIC-LOCATION:Europe/Berlin
BEGIN:VEVENT
UID:527013-kulturportal@zell.ortenaukultur.de
DTSTAMP:20260425T120253Z
DESCRIPTION:Kurzbeschreibung:\n Die Grundschulzeit in Nordrach geht zu Ende
  - verabschieden wir unsere Viertklässler mit den besten Wünschen für die 
 Zukunft!\n Ort:\n Bürgerhaus\n Im Dorf 20\, 77787 Nordrach\n Veranstalter:
 \n Grundschule Nordrach\n Termin:\n Beginn: 28.07.2026\, 18:30 Uhr\n Ende:
  28.07.2026\n Link:\n Page détaillée
DTSTART;TZID=Europe/Berlin:20260728T183000
DTEND;TZID=Europe/Berlin:20260728T213000
LOCATION:Bürgerhaus\, Im Dorf 20\, 77787 Nordrach
SUMMARY:Schul-Entlassfeier\, Bürgerhaus
X-ALT-DESC;FMTTYPE=text/html:<strong>Kurzbeschreibung:</strong><br/>Die Gru
 ndschulzeit in Nordrach geht zu Ende - verabschieden wir unsere Viertkläss
 ler mit den besten Wünschen für die Zukunft! <br /><strong>Ort:</strong><b
 r/>Bürgerhaus<br/>Im Dorf 20\, 77787  Nordrach<br /><strong>Veranstalter:<
 /strong><br/>Grundschule Nordrach<br /><strong>Termin:</strong><br/>Beginn
 : 28.07.2026\, 18:30 Uhr<br/>Ende: 28.07.2026<br /><strong>Link:</strong><
 br/><a href='https://zell.ortenaukultur.de/fr/evenements/detail/evenement/
 id/527013-schul-entlassfeier/?vt=1'>Page détaillée </a>
END:VEVENT
END:VCALENDAR
