BEGIN:VCALENDAR
VERSION:2.0
PRODID:-//zell.ortenaukultur.de//NONSGML kigkonsult.se iCalcreator 2.41.92//
CALSCALE:GREGORIAN
METHOD:PUBLISH
UID:30336262-6333-4738-b066-393732646236
X-WR-TIMEZONE:Europe/Berlin
X-LIC-LOCATION:Europe/Berlin
BEGIN:VEVENT
UID:540164-kulturportal@zell.ortenaukultur.de
DTSTAMP:20260425T105431Z
DESCRIPTION:Kurzbeschreibung:\n Es erwartet Sie ein besonderes Musik-Erlebn
 is unter Leitung von Rüdiger Müller. Eintritt frei!\n Ort:\n Rathausplatz
 \n Dorf 30\, 77784 Oberharmersbach\n Veranstalter:\n Gemeinde Oberharmersb
 ach\n Termin:\n Beginn: 22.05.2026\, 19:00 Uhr\n Ende: 22.05.2026\n Ticket
 s:\n Eintritt frei!\n Link:\n Page détaillée
DTSTART;TZID=Europe/Berlin:20260522T190000
DTEND;TZID=Europe/Berlin:20260522T220000
LOCATION:Rathausplatz\, Dorf 30\, 77784 Oberharmersbach
SUMMARY:RathausPlatzKonzert der Miliz- und Trachtenkapelle Oberharmersbach\
 , Rathausplatz
X-ALT-DESC;FMTTYPE=text/html:<strong>Kurzbeschreibung:</strong><br/>Es erwa
 rtet Sie ein besonderes Musik-Erlebnis unter Leitung von Rüdiger Müller. E
 intritt frei!<br /><strong>Ort:</strong><br/>Rathausplatz<br/>Dorf 30\, 77
 784 Oberharmersbach<br /><strong>Veranstalter:</strong><br/>Gemeinde Oberh
 armersbach<br /><strong>Termin:</strong><br/>Beginn: 22.05.2026\, 19:00 Uh
 r<br/>Ende: 22.05.2026<br /><strong>Tickets: </strong><br/>Eintritt frei!<
 br /><strong>Link:</strong><br/><a href='https://zell.ortenaukultur.de/fr/
 evenements/detail/evenement/id/540164-rathausplatzkonzert-der-miliz-und-tr
 achtenkapelle-oberharmersbach/?vt=1'>Page détaillée </a>
END:VEVENT
END:VCALENDAR
