BEGIN:VCALENDAR
VERSION:2.0
PRODID:-//zell.ortenaukultur.de//NONSGML kigkonsult.se iCalcreator 2.41.92//
CALSCALE:GREGORIAN
METHOD:PUBLISH
UID:34383230-6663-4139-a435-313366353731
X-WR-TIMEZONE:Europe/Berlin
X-LIC-LOCATION:Europe/Berlin
BEGIN:VEVENT
UID:555636-kulturportal@zell.ortenaukultur.de
DTSTAMP:20260425T150857Z
DESCRIPTION:Kurzbeschreibung:\n Im Anschluss an den Erntedank-Gottesdienst 
 werden die stimmgewaltigen Sängerinnen und Sänger begeistern. Im Bürgerpar
 k.\n Ort:\n Bürgerpark\n Im Dorf 26\, 77787 Nordrach\n Veranstalter:\n Cho
 r der Klänge e.V.\n Termin:\n Beginn: 27.09.2026\n Ende: 27.09.2026\n Link
 :\n Page détaillée
DTSTART;TZID=Europe/Berlin:20260927T000000
DTEND;TZID=Europe/Berlin:20260927T030000
LOCATION:Bürgerpark\, Im Dorf 26\, 77787 Nordrach
SUMMARY:Chor der Klänge: Erntedank-Konzert\, Bürgerpark
X-ALT-DESC;FMTTYPE=text/html:<strong>Kurzbeschreibung:</strong><br/>Im Ansc
 hluss an den Erntedank-Gottesdienst werden die stimmgewaltigen Sängerinnen
  und Sänger begeistern. Im Bürgerpark.<br /><strong>Ort:</strong><br/>Bürg
 erpark<br/>Im Dorf 26\, 77787 Nordrach<br /><strong>Veranstalter:</strong>
 <br/>Chor der Klänge e.V. <br /><strong>Termin:</strong><br/>Beginn: 27.09
 .2026<br/>Ende: 27.09.2026<br /><strong>Link:</strong><br/><a href='https:
 //zell.ortenaukultur.de/fr/evenements/detail/evenement/id/555636-chor-der-
 klaenge-erntedank-konzert/?vt=1'>Page détaillée </a>
END:VEVENT
END:VCALENDAR
