BEGIN:VCALENDAR
VERSION:2.0
PRODID:-//zell.ortenaukultur.de//NONSGML kigkonsult.se iCalcreator 2.41.92//
CALSCALE:GREGORIAN
METHOD:PUBLISH
UID:36653630-3139-4436-a164-383966646530
X-WR-TIMEZONE:Europe/Berlin
X-LIC-LOCATION:Europe/Berlin
BEGIN:VEVENT
UID:561371-kulturportal@zell.ortenaukultur.de
DTSTAMP:20260424T233107Z
DESCRIPTION:Kurzbeschreibung:\n Spaß und Spannung beim Open-Air-Kino\n Blit
 zinfo:\n Abgesagt!\n Ort:\n Beim Rundofen oder Kanzleiplatz\n Kanzleiplatz
  1\, 77736 Zell am Harmersbach\n Veranstalter:\n Kultur und Stadtmarketing
 \n Termin:\n Beginn: 12.06.2026\, 21:30 Uhr\n Ende: 13.06.2026\n Tickets:
 \n Eintritt: 10\,00 €\n Link:\n Page détaillée
DTSTART;TZID=Europe/Berlin:20260612T213000
DTEND;TZID=Europe/Berlin:20260613T003000
LOCATION:Beim Rundofen oder Kanzleiplatz\, Kanzleiplatz 1\, 77736 Zell am H
 armersbach
SUMMARY:Open-Air-Kino\, Kanzleiplatz
X-ALT-DESC;FMTTYPE=text/html:<strong>Kurzbeschreibung:</strong><br/>Spaß un
 d Spannung beim Open-Air-Kino<br /><strong>Blitzinfo:</strong><br/>Abgesag
 t!<br /><strong>Ort:</strong><br/>Beim Rundofen oder Kanzleiplatz<br/>Kanz
 leiplatz 1\, 77736 Zell am Harmersbach<br /><strong>Veranstalter:</strong>
 <br/>Kultur und Stadtmarketing<br /><strong>Termin:</strong><br/>Beginn: 1
 2.06.2026\, 21:30 Uhr<br/>Ende: 13.06.2026<br /><strong>Tickets: </strong>
 <br/>Eintritt: 10\,00 €<br /><strong>Link:</strong><br/><a href='https://z
 ell.ortenaukultur.de/fr/evenements/detail/evenement/id/561371-open-air-kin
 o/?vt=1'>Page détaillée </a>
END:VEVENT
END:VCALENDAR
