BEGIN:VCALENDAR
VERSION:2.0
PRODID:-//zell.ortenaukultur.de//NONSGML kigkonsult.se iCalcreator 2.41.92//
CALSCALE:GREGORIAN
METHOD:PUBLISH
UID:39323634-3132-4532-a330-333935333433
X-WR-TIMEZONE:Europe/Berlin
X-LIC-LOCATION:Europe/Berlin
BEGIN:VEVENT
UID:562996-kulturportal@zell.ortenaukultur.de
DTSTAMP:20260425T111303Z
DESCRIPTION:Kurzbeschreibung:\n Weinwanderung in Niedermorschwihr\, Besicht
 igung 'Au Relais des Trois Épis' (Confiserie). Infos bei Herbert Vollmer\,
  07838 96969\n Ort:\n Niedernai\n Rue du Château\, Niedern Nordrach\n Vera
 nstalter:\n Freundeskreis Niedernai-Nordrach\n Termin:\n Beginn: 19.07.202
 6\, 10:00 Uhr\n Ende: 19.07.2026\n Link:\n Page détaillée
DTSTART;TZID=Europe/Berlin:20260719T100000
DTEND;TZID=Europe/Berlin:20260719T130000
LOCATION:Niedernai\, Rue du Château\, Niedern Nordrach
SUMMARY:Weinwanderung in Niedermorschwihr mit dem Freundeskreis Niedernai-N
 ordrach\, Niedernai
X-ALT-DESC;FMTTYPE=text/html:<strong>Kurzbeschreibung:</strong><br/>Weinwan
 derung in Niedermorschwihr\, Besichtigung 'Au Relais des Trois Épis' (Conf
 iserie). Infos bei Herbert Vollmer\, 07838 96969 <br /><strong>Ort:</stron
 g><br/>Niedernai<br/>Rue  du Château\, Niedern Nordrach<br /><strong>Veran
 stalter:</strong><br/>Freundeskreis Niedernai-Nordrach<br /><strong>Termin
 :</strong><br/>Beginn: 19.07.2026\, 10:00 Uhr<br/>Ende: 19.07.2026<br /><s
 trong>Link:</strong><br/><a href='https://zell.ortenaukultur.de/fr/eveneme
 nts/detail/evenement/id/562996-weinwanderung-in-niedermorschwihr-mit-dem-f
 reundeskreis-niedernai-nordrach/?vt=1'>Page détaillée </a>
END:VEVENT
END:VCALENDAR
