BEGIN:VCALENDAR
VERSION:2.0
PRODID:-//zell.ortenaukultur.de//NONSGML kigkonsult.se iCalcreator 2.41.92//
CALSCALE:GREGORIAN
METHOD:PUBLISH
UID:35636138-3666-4366-b034-323935653634
X-WR-TIMEZONE:Europe/Berlin
X-LIC-LOCATION:Europe/Berlin
BEGIN:VEVENT
UID:564258-kulturportal@zell.ortenaukultur.de
DTSTAMP:20260425T115551Z
DESCRIPTION:Kurzbeschreibung:\n Genießen Sie den Duft der Kräuter auf dem h
 errlich gelegenen Bergbauernhof inkl. Kräuter-Fingerfood. 25 Euro p.P.\, A
 nmeldung: 07838 663\, Heidenbühl 2.\n Ort:\n Heidenbühlhof\n Heidenbühl 2\
 , 77787 Nordrach\n Veranstalter:\n Heidenbühlhof\n Termin:\n Beginn: 27.06
 .2026\, 10:00 Uhr\n Ende: 27.06.2026\n Link:\n Page détaillée
DTSTART;TZID=Europe/Berlin:20260627T100000
DTEND;TZID=Europe/Berlin:20260627T130000
LOCATION:Heidenbühlhof\, Heidenbühl 2\, 77787 Nordrach
SUMMARY:Duftende Kräuter im hofeigenen Bauernkräutergarten\, Heidenbühlhof
X-ALT-DESC;FMTTYPE=text/html:<strong>Kurzbeschreibung:</strong><br/>Genieße
 n Sie den Duft der Kräuter auf dem herrlich gelegenen Bergbauernhof inkl. 
 Kräuter-Fingerfood. 25 Euro p.P.\, Anmeldung: 07838 663\, Heidenbühl 2.<br
  /><strong>Ort:</strong><br/>Heidenbühlhof<br/>Heidenbühl 2\, 77787 Nordra
 ch<br /><strong>Veranstalter:</strong><br/>Heidenbühlhof<br /><strong>Term
 in:</strong><br/>Beginn: 27.06.2026\, 10:00 Uhr<br/>Ende: 27.06.2026<br />
 <strong>Link:</strong><br/><a href='https://zell.ortenaukultur.de/fr/evene
 ments/detail/evenement/id/564258-duftende-kraeuter-im-hofeigenen-bauernkra
 eutergarten/?vt=1'>Page détaillée </a>
END:VEVENT
END:VCALENDAR
