BEGIN:VCALENDAR
VERSION:2.0
PRODID:-//zell.ortenaukultur.de//NONSGML kigkonsult.se iCalcreator 2.41.92//
CALSCALE:GREGORIAN
METHOD:PUBLISH
UID:34326564-6363-4635-b164-376337613633
X-WR-TIMEZONE:Europe/Berlin
X-LIC-LOCATION:Europe/Berlin
BEGIN:VEVENT
UID:582791-kulturportal@zell.ortenaukultur.de
DTSTAMP:20260424T233651Z
DESCRIPTION:Kurzbeschreibung:\n Mit ihren schwungvollen Klängen werden die 
 Mitglieder der Trachtenkapelle für Freude sorgen.\n Ort:\n wird noch bekan
 ntgegeben\n ...\, ... Nordrach\n Veranstalter:\n Trachtenkapelle Nordrach
 \n Termin:\n Beginn: 20.12.2026\n Ende: 20.12.2026\n Link:\n Page détaillé
 e
DTSTART;TZID=Europe/Berlin:20261220T000000
DTEND;TZID=Europe/Berlin:20261220T030000
LOCATION:wird noch bekanntgegeben\, ...\, ... Nordrach
SUMMARY:Trachtenkapelle Nordrach: Einstimmung auf Weihnachten im Pflegeheim
 .\, wird noch bekanntgegeben
X-ALT-DESC;FMTTYPE=text/html:<strong>Kurzbeschreibung:</strong><br/>Mit ihr
 en schwungvollen Klängen werden die Mitglieder der Trachtenkapelle für Fre
 ude sorgen. <br /><strong>Ort:</strong><br/>wird noch bekanntgegeben<br/>.
 ..\, ... Nordrach<br /><strong>Veranstalter:</strong><br/>Trachtenkapelle 
 Nordrach<br /><strong>Termin:</strong><br/>Beginn: 20.12.2026<br/>Ende: 20
 .12.2026<br /><strong>Link:</strong><br/><a href='https://zell.ortenaukult
 ur.de/fr/evenements/detail/evenement/id/582791-trachtenkapelle-nordrach-ei
 nstimmung-auf-weihnachten-im-pflegeheim/?vt=1'>Page détaillée </a>
END:VEVENT
END:VCALENDAR
