BEGIN:VCALENDAR
VERSION:2.0
PRODID:-//zell.ortenaukultur.de//NONSGML kigkonsult.se iCalcreator 2.41.92//
CALSCALE:GREGORIAN
METHOD:PUBLISH
UID:39666462-3064-4134-a336-383361623737
X-WR-TIMEZONE:Europe/Berlin
X-LIC-LOCATION:Europe/Berlin
BEGIN:VEVENT
UID:585137-kulturportal@zell.ortenaukultur.de
DTSTAMP:20260425T110455Z
DESCRIPTION:Kurzbeschreibung:\n Regina Chernychko spielt in der Stadthalle 
 Stücke von Bach\, Mozart und Schumann\n Ort:\n Stadthalle am Nollen\n Noll
 enstr. 15\, 77723 Gengenbach\n Veranstalter:\n Weltklassik am Klavier\n Te
 rmin:\n Beginn: 07.06.2026\, 17:00 Uhr\n Ende: 07.06.2026\n Tickets:\n www
 .weltklassik.de\n https://www.weltklassik.de\n Link:\n Page détaillée
DTSTART;TZID=Europe/Berlin:20260607T170000
DTEND;TZID=Europe/Berlin:20260607T200000
LOCATION:Stadthalle am Nollen\, Nollenstr. 15\, 77723 Gengenbach
SUMMARY:Weltklassik am Klavier - Durch alle Töne tönet im bunten Erdentraum
  - poetisch inspiriert!\, Stadthalle am Nollen
X-ALT-DESC;FMTTYPE=text/html:<strong>Kurzbeschreibung:</strong><br/>Regina 
 Chernychko spielt in der Stadthalle Stücke von Bach\, Mozart und Schumann<
 br /><strong>Ort:</strong><br/>Stadthalle am Nollen<br/>Nollenstr. 15\, 77
 723 Gengenbach<br /><strong>Veranstalter:</strong><br/>Weltklassik am Klav
 ier<br /><strong>Termin:</strong><br/>Beginn: 07.06.2026\, 17:00 Uhr<br/>E
 nde: 07.06.2026<br /><strong>Tickets: </strong><br/><a  class='wco_cb_subt
 itle_link'  id='ticketlink'  href='https://www.weltklassik.de' target='_bl
 ank' title='Öffnet externen Link in einem neuen Fenster'>www.weltklassik.d
 e</a><br/>https://www.weltklassik.de<br /><strong>Link:</strong><br/><a hr
 ef='https://zell.ortenaukultur.de/fr/evenements/detail/evenement/id/585137
 -weltklassik-am-klavier-durch-alle-toene-toenet-im-bunten-erdentraum-poeti
 sch-inspiriert/?vt=1'>Page détaillée </a>
END:VEVENT
END:VCALENDAR
