BEGIN:VCALENDAR
VERSION:2.0
PRODID:-//zell.ortenaukultur.de//NONSGML kigkonsult.se iCalcreator 2.41.92//
CALSCALE:GREGORIAN
METHOD:PUBLISH
UID:37353766-6265-4464-a165-333737346436
X-WR-TIMEZONE:Europe/Berlin
X-LIC-LOCATION:Europe/Berlin
BEGIN:VEVENT
UID:585138-kulturportal@zell.ortenaukultur.de
DTSTAMP:20260425T154220Z
DESCRIPTION:Kurzbeschreibung:\n Sofja Gülbadamova spielt in der Stadthalle 
 Stücke von Friedman\, Strauss\, Schubert\, Tschaikowsky und Tausig\n Ort:
 \n Stadthalle am Nollen\n Nollenstr. 15\, 77723 Gengenbach\n Veranstalter:
 \n Weltklassik am Klavier\n Termin:\n Beginn: 05.07.2026\, 17:00 Uhr\n End
 e: 05.07.2026\n Tickets:\n www.weltklassik.de\n https://www.weltklassik.de
 \n Link:\n Page détaillée
DTSTART;TZID=Europe/Berlin:20260705T170000
DTEND;TZID=Europe/Berlin:20260705T200000
LOCATION:Stadthalle am Nollen\, Nollenstr. 15\, 77723 Gengenbach
SUMMARY:Weltklassik am Klavier - Walzerkönig und der Tanz ohne Ende!\, Stad
 thalle am Nollen
X-ALT-DESC;FMTTYPE=text/html:<strong>Kurzbeschreibung:</strong><br/>Sofja G
 ülbadamova spielt in der Stadthalle Stücke von Friedman\, Strauss\, Schube
 rt\, Tschaikowsky und Tausig<br /><strong>Ort:</strong><br/>Stadthalle am 
 Nollen<br/>Nollenstr. 15\, 77723 Gengenbach<br /><strong>Veranstalter:</st
 rong><br/>Weltklassik am Klavier<br /><strong>Termin:</strong><br/>Beginn:
  05.07.2026\, 17:00 Uhr<br/>Ende: 05.07.2026<br /><strong>Tickets: </stron
 g><br/><a  class='wco_cb_subtitle_link'  id='ticketlink'  href='https://ww
 w.weltklassik.de' target='_blank' title='Öffnet externen Link in einem neu
 en Fenster'>www.weltklassik.de</a><br/>https://www.weltklassik.de<br /><st
 rong>Link:</strong><br/><a href='https://zell.ortenaukultur.de/fr/evenemen
 ts/detail/evenement/id/585138-weltklassik-am-klavier-walzerkoenig-und-der-
 tanz-ohne-ende/?vt=1'>Page détaillée </a>
END:VEVENT
END:VCALENDAR
