BEGIN:VCALENDAR
VERSION:2.0
PRODID:-//zell.ortenaukultur.de//NONSGML kigkonsult.se iCalcreator 2.41.92//
CALSCALE:GREGORIAN
METHOD:PUBLISH
UID:32343164-3661-4638-a363-313664613462
X-WR-TIMEZONE:Europe/Berlin
X-LIC-LOCATION:Europe/Berlin
BEGIN:VEVENT
UID:588550-kulturportal@zell.ortenaukultur.de
DTSTAMP:20260425T135450Z
DESCRIPTION:Kurzbeschreibung:\n Heute geht es um das Schmecken und das Erle
 ben der Naturparkregion Schwarzwald Mitte-Nord\n Ort:\n Bürgerpark\n Im Do
 rf 26\, 77787 Nordrach\n Veranstalter:\n Touristen-Information Nordrach\n 
 Termin:\n Beginn: 23.08.2026\, 10:00 Uhr\n Ende: 23.08.2026\n Link:\n Page
  détaillée
DTSTART;TZID=Europe/Berlin:20260823T100000
DTEND;TZID=Europe/Berlin:20260823T130000
LOCATION:Bürgerpark\, Im Dorf 26\, 77787 Nordrach
SUMMARY:Naturparkmarkt in Nordrach\, Bürgerpark
X-ALT-DESC;FMTTYPE=text/html:<strong>Kurzbeschreibung:</strong><br/>Heute g
 eht es um das Schmecken und das Erleben der Naturparkregion Schwarzwald Mi
 tte-Nord  <br /><strong>Ort:</strong><br/>Bürgerpark<br/>Im Dorf 26\, 7778
 7 Nordrach<br /><strong>Veranstalter:</strong><br/>Touristen-Information N
 ordrach<br /><strong>Termin:</strong><br/>Beginn: 23.08.2026\, 10:00 Uhr<b
 r/>Ende: 23.08.2026<br /><strong>Link:</strong><br/><a href='https://zell.
 ortenaukultur.de/fr/evenements/detail/evenement/id/588550-naturparkmarkt-i
 n-nordrach/?vt=1'>Page détaillée </a>
END:VEVENT
END:VCALENDAR
