BEGIN:VCALENDAR
VERSION:2.0
PRODID:-//zell.ortenaukultur.de//NONSGML kigkonsult.se iCalcreator 2.41.92//
CALSCALE:GREGORIAN
METHOD:PUBLISH
UID:33303137-3062-4033-b132-623262356536
X-WR-TIMEZONE:Europe/Berlin
X-LIC-LOCATION:Europe/Berlin
BEGIN:VEVENT
UID:591056-kulturportal@zell.ortenaukultur.de
DTSTAMP:20260425T035946Z
DESCRIPTION:Kurzbeschreibung:\n Zeller Sommermusik - Duo Pipes & Reeds\n Or
 t:\n Evangelische Kirche\n Kirchstr. 14\, 77736 Zell am Harmersbach\n Vera
 nstalter:\n Kultur und Stadtmarketing\n Termin:\n Beginn: 03.06.2026\, 19:
 00 Uhr\n Ende: 03.06.2026\n Link:\n Page détaillée
DTSTART;TZID=Europe/Berlin:20260603T190000
DTEND;TZID=Europe/Berlin:20260603T220000
LOCATION:Evangelische Kirche\, Kirchstr. 14\, 77736 Zell am Harmersbach
SUMMARY:Duo Pipes & Reeds\, Evangelische Kirche
X-ALT-DESC;FMTTYPE=text/html:<strong>Kurzbeschreibung:</strong><br/>Zeller 
 Sommermusik - Duo Pipes & Reeds<br /><strong>Ort:</strong><br/>Evangelisch
 e Kirche<br/>Kirchstr. 14\, 77736 Zell am Harmersbach<br /><strong>Veranst
 alter:</strong><br/>Kultur und Stadtmarketing<br /><strong>Termin:</strong
 ><br/>Beginn: 03.06.2026\, 19:00 Uhr<br/>Ende: 03.06.2026<br /><strong>Lin
 k:</strong><br/><a href='https://zell.ortenaukultur.de/fr/evenements/detai
 l/evenement/id/591056-duo-pipes-reeds/?vt=1'>Page détaillée </a>
END:VEVENT
END:VCALENDAR
