BEGIN:VCALENDAR
VERSION:2.0
PRODID:-//zell.ortenaukultur.de//NONSGML kigkonsult.se iCalcreator 2.41.92//
CALSCALE:GREGORIAN
METHOD:PUBLISH
UID:62613765-3566-4639-b630-636161666530
X-WR-TIMEZONE:Europe/Berlin
X-LIC-LOCATION:Europe/Berlin
BEGIN:VEVENT
UID:591476-kulturportal@zell.ortenaukultur.de
DTSTAMP:20260424T213715Z
DESCRIPTION:Kurzbeschreibung:\n Wild-\, Heil- und Würzkräuter Vortrag von K
 räuterpadagogien Monika Heizmann\n Ort:\n Pfarrheim St. Symphorian\n Pfarr
 hofgraben 14\, 77736 Zell am Harmersbach\n Veranstalter:\n FORUM älterwerd
 en\n Termin:\n Beginn: 10.06.2026\, 14:00 Uhr\n Ende: 10.06.2026\n Link:\n
  Page détaillée
DTSTART;TZID=Europe/Berlin:20260610T140000
DTEND;TZID=Europe/Berlin:20260610T170000
LOCATION:Pfarrheim St. Symphorian\, Pfarrhofgraben 14\, 77736 Zell am Harme
 rsbach
SUMMARY:Wild-\, Heil- und Würzkräuter\, Pfarrheim St. Symphorian
X-ALT-DESC;FMTTYPE=text/html:<strong>Kurzbeschreibung:</strong><br/>Wild-\,
  Heil- und Würzkräuter Vortrag von Kräuterpadagogien Monika Heizmann<br />
 <strong>Ort:</strong><br/>Pfarrheim St. Symphorian<br/>Pfarrhofgraben 14\,
  77736 Zell am Harmersbach<br /><strong>Veranstalter:</strong><br/>FORUM ä
 lterwerden<br /><strong>Termin:</strong><br/>Beginn: 10.06.2026\, 14:00 Uh
 r<br/>Ende: 10.06.2026<br /><strong>Link:</strong><br/><a href='https://ze
 ll.ortenaukultur.de/fr/evenements/detail/evenement/id/591476-wild-heil-und
 -wuerzkraeuter/?vt=1'>Page détaillée </a>
END:VEVENT
END:VCALENDAR
