BEGIN:VCALENDAR
VERSION:2.0
PRODID:-//zell.ortenaukultur.de//NONSGML kigkonsult.se iCalcreator 2.41.92//
CALSCALE:GREGORIAN
METHOD:PUBLISH
UID:65613731-3661-4331-b731-343139663236
X-WR-TIMEZONE:Europe/Berlin
X-LIC-LOCATION:Europe/Berlin
BEGIN:VEVENT
UID:591665-kulturportal@zell.ortenaukultur.de
DTSTAMP:20260425T133004Z
DESCRIPTION:Kurzbeschreibung:\n Generationendialog im Rundofen\n Ort:\n Run
 dofen\n Fabrikstraße 5a\, 77736 Zell am Harmersbach\n Veranstalter:\n Zell
 er Kunstwege-Wege zur Kunst\n Termin:\n Beginn: 02.04.2026\, 18:30 Uhr\n E
 nde: 02.04.2026\n Link:\n Page détaillée
DTSTART;TZID=Europe/Berlin:20260402T183000
DTEND;TZID=Europe/Berlin:20260402T213000
LOCATION:Rundofen\, Fabrikstraße 5a\, 77736 Zell am Harmersbach
SUMMARY:HOT and HEAVY\, Rundofen
X-ALT-DESC;FMTTYPE=text/html:<strong>Kurzbeschreibung:</strong><br/>Generat
 ionendialog im Rundofen<br /><strong>Ort:</strong><br/>Rundofen<br/>Fabrik
 straße 5a\, 77736 Zell am Harmersbach<br /><strong>Veranstalter:</strong><
 br/>Zeller Kunstwege-Wege zur Kunst<br /><strong>Termin:</strong><br/>Begi
 nn: 02.04.2026\, 18:30 Uhr<br/>Ende: 02.04.2026<br /><strong>Link:</strong
 ><br/><a href='https://zell.ortenaukultur.de/fr/evenements/detail/evenemen
 t/id/591665-hot-and-heavy/?vt=1'>Page détaillée </a>
END:VEVENT
END:VCALENDAR
